BEGIN:VCALENDAR
VERSION:2.0
PRODID:-//Ayuntamiento - Soto del Real - ECPv5.4.0.1//NONSGML v1.0//EN
CALSCALE:GREGORIAN
METHOD:PUBLISH
X-WR-CALNAME:Ayuntamiento - Soto del Real
X-ORIGINAL-URL:https://www.ayto-sotodelreal.es
X-WR-CALDESC:Eventos para Ayuntamiento - Soto del Real
BEGIN:VTIMEZONE
TZID:Europe/Paris
BEGIN:DAYLIGHT
TZOFFSETFROM:+0100
TZOFFSETTO:+0200
TZNAME:CEST
DTSTART:20260329T010000
END:DAYLIGHT
BEGIN:STANDARD
TZOFFSETFROM:+0200
TZOFFSETTO:+0100
TZNAME:CET
DTSTART:20261025T010000
END:STANDARD
END:VTIMEZONE
BEGIN:VEVENT
DTSTART;TZID=Europe/Paris:20260321T100000
DTEND;TZID=Europe/Paris:20260321T140000
DTSTAMP:20260425T122735
CREATED:20251210T091208Z
LAST-MODIFIED:20260315T091606Z
UID:48117-1774087200-1774101600@www.ayto-sotodelreal.es
SUMMARY:RUTA GUIADA A LA PEDRIZA Y EL TRANCO DE MANZANARES
DESCRIPTION:DÍA: 21 de marzo; \nHORA: 10:00 a 14:00 h aprox.  \nLUGAR DE ENCUENTRO: Refugio La Rodela de Soto del Real.  \nDIFICULTAD: media (por la distancia);  \nDISTANCIA: 11\,5 km aprox.; \nTRACK WIKILOC: https://es.wikiloc.com/rutas-senderismo/la-rodela-el-tranco-252726774  \nPRECIO: 3€ en mutick.com  \nAbrimos la temporada 2026 con una ruta lineal hacia la Pedriza. Partiendo del Refugio de La Rodela en Soto del Real seguiremos la Cañada hasta la zona del Berrueco para\, de allí\, dirigirnos hacia el Hueco de Coberteros y el Collado de la Dehesilla\, tras el cual descenderemos hacia Canto Cochino\, tras pasar por El Tolmo y la Autopista.  \nAcabaremos nuestra ruta descendiendo junto al río Manzanares camino de El Tranco\, donde habrá la posibilidad de llevar a cuatro personas para recoger los coches en Soto y volver a recoger al resto de participantes en El Tranco de Manzanares el Real.  
URL:https://www.ayto-sotodelreal.es/event/rutas-guiadas-2026/
CATEGORIES:Turismo
ATTACH;FMTTYPE=image/png:https://www.ayto-sotodelreal.es/wp-content/uploads/2025/12/Rutas-guiadas-6-1.png
END:VEVENT
END:VCALENDAR