BEGIN:VCALENDAR
VERSION:2.0
PRODID:-//Ayuntamiento - Soto del Real - ECPv5.4.0.1//NONSGML v1.0//EN
CALSCALE:GREGORIAN
METHOD:PUBLISH
X-WR-CALNAME:Ayuntamiento - Soto del Real
X-ORIGINAL-URL:https://www.ayto-sotodelreal.es
X-WR-CALDESC:Eventos para Ayuntamiento - Soto del Real
BEGIN:VTIMEZONE
TZID:Europe/Paris
BEGIN:DAYLIGHT
TZOFFSETFROM:+0100
TZOFFSETTO:+0200
TZNAME:CEST
DTSTART:20260329T010000
END:DAYLIGHT
BEGIN:STANDARD
TZOFFSETFROM:+0200
TZOFFSETTO:+0100
TZNAME:CET
DTSTART:20261025T010000
END:STANDARD
END:VTIMEZONE
BEGIN:VEVENT
DTSTART;TZID=Europe/Paris:20260103T110000
DTEND;TZID=Europe/Paris:20260105T140000
DTSTAMP:20260425T132147
CREATED:20251229T102019Z
LAST-MODIFIED:20251229T102048Z
UID:48235-1767438000-1767621600@www.ayto-sotodelreal.es
SUMMARY:MERCADO REYES MAGOS
DESCRIPTION:Días: 3\, 4 y 5 de enero \nHorario: De 11 a 14h y de 17 a 20h (El día 5 solo hasta las 14h) \nLugar: Centro Cultural
URL:https://www.ayto-sotodelreal.es/event/mercado-reyes-magos/
LOCATION:Centro Cultural Pedro de Lorenzo\, C/ Real\, nº6\, Soto del Real\, Madrid\, 28791\, España
CATEGORIES:Municipio,Turismo
ATTACH;FMTTYPE=image/jpeg:https://www.ayto-sotodelreal.es/wp-content/uploads/2025/12/WhatsApp-Image-2025-12-26-at-13.16.58-1.jpeg
END:VEVENT
END:VCALENDAR