BEGIN:VCALENDAR
VERSION:2.0
PRODID:-//Ayuntamiento - Soto del Real - ECPv5.4.0.1//NONSGML v1.0//EN
CALSCALE:GREGORIAN
METHOD:PUBLISH
X-WR-CALNAME:Ayuntamiento - Soto del Real
X-ORIGINAL-URL:https://www.ayto-sotodelreal.es
X-WR-CALDESC:Eventos para Ayuntamiento - Soto del Real
BEGIN:VTIMEZONE
TZID:Europe/Paris
BEGIN:DAYLIGHT
TZOFFSETFROM:+0100
TZOFFSETTO:+0200
TZNAME:CEST
DTSTART:20260329T010000
END:DAYLIGHT
BEGIN:STANDARD
TZOFFSETFROM:+0200
TZOFFSETTO:+0100
TZNAME:CET
DTSTART:20261025T010000
END:STANDARD
END:VTIMEZONE
BEGIN:VEVENT
DTSTART;TZID=Europe/Paris:20260424T170000
DTEND;TZID=Europe/Paris:20260424T170000
DTSTAMP:20260424T115518
CREATED:20260108T110333Z
LAST-MODIFIED:20260126T082006Z
UID:48427-1777050000-1777050000@www.ayto-sotodelreal.es
SUMMARY:ASAMBLEA DE LA INFANCIA Y LA ADOLESCENCIA
DESCRIPTION:FECHA: 24 de abril; \nHORA: 17:00 h; \nLUGAR: Casa de la Juvetud e infancia. \nVIII Reunión de la Asamblea de Participación 🗣️💡. Un encuentro donde seguimos trabajando juntos en la construcción de propuestas para mejorar nuestro municipio. Será una sesión dinámica en la que continuaremos preparando nuevas iniciativas y fortaleciendo la voz de la infancia y adolescencia en Soto del Real. \nProyecto financiado con cargo a los fondos recibidos del Ministerio de Igualdad\, Secretaría de Estado de Igualdad y para la Erradicación de la Violencia contra las Mujeres\, en el marco del Plan Corresponsables.
URL:https://www.ayto-sotodelreal.es/event/asamblea-de-la-infancia-y-la-adolescencia-3/
LOCATION:Casa de la Juventud\, C/ Concejo\, 6\, Soto del Real \, Madrid\, 28791
CATEGORIES:Infantil,Juventud,Participación ciudadana
ATTACH;FMTTYPE=image/jpeg:https://www.ayto-sotodelreal.es/wp-content/uploads/2026/01/26.04.24-Asamblea-infancia.jpg
END:VEVENT
BEGIN:VEVENT
DTSTART;TZID=Europe/Paris:20260424T190000
DTEND;TZID=Europe/Paris:20260424T190000
DTSTAMP:20260424T115518
CREATED:20260324T171123Z
LAST-MODIFIED:20260324T171123Z
UID:49611-1777057200-1777057200@www.ayto-sotodelreal.es
SUMMARY:PENSAR SOTO
DESCRIPTION:PENSAR SOTO\nPensar juntos hoy el pueblo que queremos mañana \n\nViernes 24 de abril  | 19:00 h | Centro de Arte y Turismo (CAT)\nEntrada libre hasta completar aforo\n \nEl Ayuntamiento de Soto del Real organiza “Pensar Soto”\, un encuentro abierto a la ciudadanía para reflexionar de forma conjunta sobre el futuro del municipio.\n \nLa sesión comenzará con una charla de Enrique Ruz\, quien ofrecerá un recorrido por experiencias de transformación en distintas ciudades del mundo. A continuación\, se abrirá un diálogo en el que participarán la actual alcaldesa y anteriores alcaldes del municipio\, generando un espacio de conversación plural y enriquecedor.\n \nEste encuentro propone una mirada a largo plazo sobre Soto del Real\, fomentando la reflexión\, la escucha y la participación ciudadana. Una cita poco habitual que reúne distintas perspectivas para pensar\, entre todos\, el futuro del municipio.\n \nEl público asistente podrá participar activamente a través de preguntas.
URL:https://www.ayto-sotodelreal.es/event/pensar-soto/
LOCATION:CENTRO DE ARTE Y TURISMO (CAT)
CATEGORIES:Centro de Arte y Turismo,Participación ciudadana
ATTACH;FMTTYPE=image/png:https://www.ayto-sotodelreal.es/wp-content/uploads/2026/03/pensar-soto-4.png
END:VEVENT
END:VCALENDAR