BEGIN:VCALENDAR
VERSION:2.0
PRODID:-//Ayuntamiento - Soto del Real - ECPv5.4.0.1//NONSGML v1.0//EN
CALSCALE:GREGORIAN
METHOD:PUBLISH
X-WR-CALNAME:Ayuntamiento - Soto del Real
X-ORIGINAL-URL:https://www.ayto-sotodelreal.es
X-WR-CALDESC:Eventos para Ayuntamiento - Soto del Real
BEGIN:VTIMEZONE
TZID:Europe/Paris
BEGIN:DAYLIGHT
TZOFFSETFROM:+0100
TZOFFSETTO:+0200
TZNAME:CEST
DTSTART:20260329T010000
END:DAYLIGHT
BEGIN:STANDARD
TZOFFSETFROM:+0200
TZOFFSETTO:+0100
TZNAME:CET
DTSTART:20261025T010000
END:STANDARD
END:VTIMEZONE
BEGIN:VEVENT
DTSTART;TZID=Europe/Paris:20260614T123000
DTEND;TZID=Europe/Paris:20260614T123000
DTSTAMP:20260423T120805
CREATED:20260404T104047Z
LAST-MODIFIED:20260406T070148Z
UID:49722-1781440200-1781440200@www.ayto-sotodelreal.es
SUMMARY:FIESTA FIN DE TEMPORADA CASA DE LA INFANCIA
DESCRIPTION:FECHA: 14 de junio; \nHORA: 12:30 h; \nLUGAR: Casa de la Juventud e Infancia.  \nUltimo día de apertura de la casa de la infancia de esta temporada\, realizaremos algunas actividades y también escucharemos a los asistentes para que nos ayuden a construir la siguiente temporada. \n 
URL:https://www.ayto-sotodelreal.es/event/fiesta-fin-de-temporada-casa-de-la-infancia/
LOCATION:Refugio La Rodela\, Soto del Real\, Madrid\, 28791\, España
CATEGORIES:Infantil,Juventud
ATTACH;FMTTYPE=image/png:https://www.ayto-sotodelreal.es/wp-content/uploads/2026/04/CARTELERIA-2025-2026-39.png
END:VEVENT
END:VCALENDAR