BEGIN:VCALENDAR
VERSION:2.0
PRODID:-//Ayuntamiento - Soto del Real - ECPv5.4.0.1//NONSGML v1.0//EN
CALSCALE:GREGORIAN
METHOD:PUBLISH
X-WR-CALNAME:Ayuntamiento - Soto del Real
X-ORIGINAL-URL:https://www.ayto-sotodelreal.es
X-WR-CALDESC:Eventos para Ayuntamiento - Soto del Real
BEGIN:VTIMEZONE
TZID:Europe/Paris
BEGIN:DAYLIGHT
TZOFFSETFROM:+0100
TZOFFSETTO:+0200
TZNAME:CEST
DTSTART:20260329T010000
END:DAYLIGHT
BEGIN:STANDARD
TZOFFSETFROM:+0200
TZOFFSETTO:+0100
TZNAME:CET
DTSTART:20261025T010000
END:STANDARD
END:VTIMEZONE
BEGIN:VEVENT
DTSTART;TZID=Europe/Paris:20260301T123000
DTEND;TZID=Europe/Paris:20260301T123000
DTSTAMP:20260425T132122
CREATED:20260108T094807Z
LAST-MODIFIED:20260126T081015Z
UID:48402-1772368200-1772368200@www.ayto-sotodelreal.es
SUMMARY:TORNEO PING PONG
DESCRIPTION:FECHA: 1 marzo; \nHORA: 12:30 h; \nLUGAR: Casa de la infancia. \nProyecto financiado con cargo a los fondos recibidos del Ministerio de Igualdad\, Secretaría de Estado de Igualdad y para la Erradicación de la Violencia contra las Mujeres\, en el marco del Plan Corresponsables.
URL:https://www.ayto-sotodelreal.es/event/torneo-ping-pong-5/
LOCATION:Casa de la Juventud\, C/ Concejo\, 6\, Soto del Real \, Madrid\, 28791
CATEGORIES:Infantil,Juventud
ATTACH;FMTTYPE=image/png:https://www.ayto-sotodelreal.es/wp-content/uploads/2026/01/26.03.01-Torneo-ping-pong.png
END:VEVENT
END:VCALENDAR