BEGIN:VCALENDAR
VERSION:2.0
PRODID:-//Ayuntamiento - Soto del Real - ECPv5.4.0.1//NONSGML v1.0//EN
CALSCALE:GREGORIAN
METHOD:PUBLISH
X-WR-CALNAME:Ayuntamiento - Soto del Real
X-ORIGINAL-URL:https://www.ayto-sotodelreal.es
X-WR-CALDESC:Eventos para Ayuntamiento - Soto del Real
BEGIN:VTIMEZONE
TZID:Europe/Paris
BEGIN:DAYLIGHT
TZOFFSETFROM:+0100
TZOFFSETTO:+0200
TZNAME:CEST
DTSTART:20260329T010000
END:DAYLIGHT
BEGIN:STANDARD
TZOFFSETFROM:+0200
TZOFFSETTO:+0100
TZNAME:CET
DTSTART:20261025T010000
END:STANDARD
END:VTIMEZONE
BEGIN:VEVENT
DTSTART;VALUE=DATE:20260508
DTEND;VALUE=DATE:20260518
DTSTAMP:20260420T171030
CREATED:20260122T094504Z
LAST-MODIFIED:20260224T082234Z
UID:48795-1778198400-1779062399@www.ayto-sotodelreal.es
SUMMARY:FESTIVAL LA PEDRIZA
DESCRIPTION:FECHA: Del 8 al 17 de mayo;  \nHORA: Por definir; \nLUGAR: CAT y otros espacios.
URL:https://www.ayto-sotodelreal.es/event/festival-la-pedriza-9/
LOCATION:Plaza de la Villa\, Plaza de la Villa\, Soto del Real \, madrid \, 28791
CATEGORIES:Centro de Arte y Turismo,Cine,Deportes,Exposiciones,Turismo
ATTACH;FMTTYPE=image/jpeg:https://www.ayto-sotodelreal.es/wp-content/uploads/2026/01/WhatsApp-Image-2026-01-13-at-8.18.34-PM.jpeg
END:VEVENT
BEGIN:VEVENT
DTSTART;VALUE=DATE:20260511
DTEND;VALUE=DATE:20260516
DTSTAMP:20260420T171030
CREATED:20260127T101520Z
LAST-MODIFIED:20260416T064026Z
UID:48923-1778457600-1778889599@www.ayto-sotodelreal.es
SUMMARY:EXPO: TEXTURAS
DESCRIPTION:DÍAS: 11 al 22 de mayo \nHORA:  \nLUGAR: Sala de exposiciones Centro Cultural Pedro de Lorenzo.  \nEl Centro Cultural Pedro de Lorenzo acoge una exposición del pintor Juan de Luis en las que el artista nos presenta un diálogo reflexivo sobre las barreras físicas y simbólicas que habitan en el ser humano. La cuidadosa manipulación del espacio\, a través de los volúmenes\, pliegues y texturas nos revela\, como una metáfora de la frontera entre lo físico y el más allá\, la exploración en el uso de materiales plásticos
URL:https://www.ayto-sotodelreal.es/event/expo-texturas/
LOCATION:Centro Cultural Pedro de Lorenzo\, C/ Real\, nº6\, Soto del Real\, Madrid\, 28791\, España
CATEGORIES:Cultura,Exposiciones
ATTACH;FMTTYPE=image/jpeg:https://www.ayto-sotodelreal.es/wp-content/uploads/2026/01/CARTEL-1-1.jpg
END:VEVENT
END:VCALENDAR