BEGIN:VCALENDAR
VERSION:2.0
PRODID:-//Ayuntamiento - Soto del Real - ECPv5.4.0.1//NONSGML v1.0//EN
CALSCALE:GREGORIAN
METHOD:PUBLISH
X-WR-CALNAME:Ayuntamiento - Soto del Real
X-ORIGINAL-URL:https://www.ayto-sotodelreal.es
X-WR-CALDESC:Eventos para Ayuntamiento - Soto del Real
BEGIN:VTIMEZONE
TZID:Europe/Paris
BEGIN:DAYLIGHT
TZOFFSETFROM:+0100
TZOFFSETTO:+0200
TZNAME:CEST
DTSTART:20260329T010000
END:DAYLIGHT
BEGIN:STANDARD
TZOFFSETFROM:+0200
TZOFFSETTO:+0100
TZNAME:CET
DTSTART:20261025T010000
END:STANDARD
END:VTIMEZONE
BEGIN:VEVENT
DTSTART;VALUE=DATE:20260331
DTEND;VALUE=DATE:20260420
DTSTAMP:20260422T115930
CREATED:20260327T163801Z
LAST-MODIFIED:20260327T163801Z
UID:49643-1774915200-1776643199@www.ayto-sotodelreal.es
SUMMARY:EXPO IMPULSAMOS EL FUTURO DE MADRID
DESCRIPTION:
URL:https://www.ayto-sotodelreal.es/event/expo-impulsamos-el-futuro-de-madrid/
LOCATION:Plaza de la Villa\, Plaza de la Villa\, Soto del Real \, madrid \, 28791
CATEGORIES:Exposiciones
ATTACH;FMTTYPE=image/jpeg:https://www.ayto-sotodelreal.es/wp-content/uploads/2026/03/cartel_Cartel-cubos-Soto-del-Real-1-scaled.jpg
END:VEVENT
BEGIN:VEVENT
DTSTART;TZID=Europe/Paris:20260411T113000
DTEND;TZID=Europe/Paris:20260411T113000
DTSTAMP:20260422T115930
CREATED:20260331T083302Z
LAST-MODIFIED:20260410T055057Z
UID:49655-1775907000-1775907000@www.ayto-sotodelreal.es
SUMMARY:MASTERCLASS Y PASEO FOTOGRÁFICO
DESCRIPTION:Masterclass y paseo fotográfico  \n11 de abril\, 11:30 h.\n– Masterclass “Street Photography” impartida por Luis Martínez\, profesor de fotografía\n– Paseo fotográfico para poner en práctica lo aprendido durante la sesión. \nInscripción obligatoria en el Centro Cultural.  \nUna actividad abierta a todas las personas interesadas en la fotografía y en el género del street photography. \n¡Anímate a participar y a mirar tu entorno con otros ojos!
URL:https://www.ayto-sotodelreal.es/event/masterclass-y-paseo-fotografico/
LOCATION:Centro Cultural Pedro de Lorenzo\, C/ Real\, nº6\, Soto del Real\, Madrid\, 28791\, España
CATEGORIES:Cultura,Exposiciones
ATTACH;FMTTYPE=image/jpeg:https://www.ayto-sotodelreal.es/wp-content/uploads/2026/03/CARTEL-MODIFICADIO.jpeg
END:VEVENT
END:VCALENDAR