BEGIN:VCALENDAR
VERSION:2.0
PRODID:-//Ayuntamiento - Soto del Real - ECPv5.4.0.1//NONSGML v1.0//EN
CALSCALE:GREGORIAN
METHOD:PUBLISH
X-WR-CALNAME:Ayuntamiento - Soto del Real
X-ORIGINAL-URL:https://www.ayto-sotodelreal.es
X-WR-CALDESC:Eventos para Ayuntamiento - Soto del Real
BEGIN:VTIMEZONE
TZID:Europe/Paris
BEGIN:DAYLIGHT
TZOFFSETFROM:+0100
TZOFFSETTO:+0200
TZNAME:CEST
DTSTART:20260329T010000
END:DAYLIGHT
BEGIN:STANDARD
TZOFFSETFROM:+0200
TZOFFSETTO:+0100
TZNAME:CET
DTSTART:20261025T010000
END:STANDARD
END:VTIMEZONE
BEGIN:VEVENT
DTSTART;TZID=Europe/Paris:20260703T221500
DTEND;TZID=Europe/Paris:20260704T221500
DTSTAMP:20260423T140248
CREATED:20260405T091748Z
LAST-MODIFIED:20260405T091748Z
UID:49836-1783116900-1783203300@www.ayto-sotodelreal.es
SUMMARY:CINE DE VERANO
DESCRIPTION:FECHA: Viernes\, 3 y Sábado 4 de julio; \nHORARIO: 22:15 h; \nLUGAR: Explanada del C.A.T.; \nENTRADA: 5\,50€.  \n 
URL:https://www.ayto-sotodelreal.es/event/cine-de-verano-2/
LOCATION:CENTRO DE ARTE Y TURISMO (CAT)
CATEGORIES:Centro de Arte y Turismo,Cine,Cultura
END:VEVENT
END:VCALENDAR