BEGIN:VCALENDAR
VERSION:2.0
PRODID:-//Ayuntamiento - Soto del Real - ECPv5.4.0.1//NONSGML v1.0//EN
CALSCALE:GREGORIAN
METHOD:PUBLISH
X-WR-CALNAME:Ayuntamiento - Soto del Real
X-ORIGINAL-URL:https://www.ayto-sotodelreal.es
X-WR-CALDESC:Eventos para Ayuntamiento - Soto del Real
BEGIN:VTIMEZONE
TZID:Europe/Paris
BEGIN:DAYLIGHT
TZOFFSETFROM:+0100
TZOFFSETTO:+0200
TZNAME:CEST
DTSTART:20260329T010000
END:DAYLIGHT
BEGIN:STANDARD
TZOFFSETFROM:+0200
TZOFFSETTO:+0100
TZNAME:CET
DTSTART:20261025T010000
END:STANDARD
END:VTIMEZONE
BEGIN:VEVENT
DTSTART;TZID=Europe/Paris:20260611T183000
DTEND;TZID=Europe/Paris:20260611T183000
DTSTAMP:20260423T123341
CREATED:20260404T114204Z
LAST-MODIFIED:20260416T065232Z
UID:49765-1781202600-1781202600@www.ayto-sotodelreal.es
SUMMARY:MONOGRÁFICO Hª: MANIQUEISMO Y RELIGIONES DUALISTAS
DESCRIPTION:FECHA 11 de junio; \nHORA:  18:30 h; \nLUGAR: Centro Cultural;  \n 
URL:https://www.ayto-sotodelreal.es/event/maniqueismo/
LOCATION:Centro Cultural Pedro de Lorenzo\, C/ Real\, nº6\, Soto del Real\, Madrid\, 28791\, España
CATEGORIES:Cultura
ATTACH;FMTTYPE=image/jpeg:https://www.ayto-sotodelreal.es/wp-content/uploads/2026/04/MONOGRAFICO-HISTORIA-MANIQUEISMO-Y-RELIGIONES-DUALISTAS.jpg
END:VEVENT
END:VCALENDAR