BEGIN:VCALENDAR
VERSION:2.0
PRODID:-//Ayuntamiento - Soto del Real - ECPv5.4.0.1//NONSGML v1.0//EN
CALSCALE:GREGORIAN
METHOD:PUBLISH
X-WR-CALNAME:Ayuntamiento - Soto del Real
X-ORIGINAL-URL:https://www.ayto-sotodelreal.es
X-WR-CALDESC:Eventos para Ayuntamiento - Soto del Real
BEGIN:VTIMEZONE
TZID:Europe/Paris
BEGIN:DAYLIGHT
TZOFFSETFROM:+0100
TZOFFSETTO:+0200
TZNAME:CEST
DTSTART:20260329T010000
END:DAYLIGHT
BEGIN:STANDARD
TZOFFSETFROM:+0200
TZOFFSETTO:+0100
TZNAME:CET
DTSTART:20261025T010000
END:STANDARD
END:VTIMEZONE
BEGIN:VEVENT
DTSTART;VALUE=DATE:20260610
DTEND;VALUE=DATE:20260611
DTSTAMP:20260423T120802
CREATED:20260404T114052Z
LAST-MODIFIED:20260421T092125Z
UID:49761-1781049600-1781135999@www.ayto-sotodelreal.es
SUMMARY:EXPOSICIÓN DE ALUMNADO ACTIVIDADES DIBUJO Y PINTURA
DESCRIPTION:FECHA 10 al 23 de junio; \nHORA:  de L a V 9:00-14:00 y de 16:00 a 20:00; \nLUGAR: Centro Cultural Pedro de Lorenzo;  \n 
URL:https://www.ayto-sotodelreal.es/event/exposicion-de-alumnado-actividades-dibujo-y-pintura/
LOCATION:Centro Cultural Pedro de Lorenzo\, C/ Real\, nº6\, Soto del Real\, Madrid\, 28791\, España
CATEGORIES:Cultura,Exposiciones
ATTACH;FMTTYPE=image/jpeg:https://www.ayto-sotodelreal.es/wp-content/uploads/2026/04/CARTEL-DIBUJO-INF-Y-JUV-EXPOSICION-ALUMNOS_page-0001.jpg
END:VEVENT
BEGIN:VEVENT
DTSTART;TZID=Europe/Paris:20260610T190000
DTEND;TZID=Europe/Paris:20260610T190000
DTSTAMP:20260423T120802
CREATED:20260324T093301Z
LAST-MODIFIED:20260324T093301Z
UID:49603-1781118000-1781118000@www.ayto-sotodelreal.es
SUMMARY:ENCUENTROS VECINALES: SOTO VERDE. RETOS Y FUTURO
DESCRIPTION:FECHA: 10 de junio\nHORA: 19:00 h\nLUGAR: Salón de actos del Centro Cultural \nEntrada libre hasta completar aforo \nEl Ayuntamiento de Soto del Real pone en marcha un ciclo de encuentros vecinales\, un espacio para escuchar\, compartir y reflexionar juntos sobre temas que forman parte de nuestro día a día. \nUn espacio para reflexionar sobre el entorno natural que nos rodea\, los retos actuales y el papel que podemos desempeñar como vecinos en su cuidado. \nA lo largo del encuentro se abordarán temas como: \n\nQué pequeños cambios podemos hacer en nuestro día a día;\nLas principales amenazas ambientales en nuestro entorno;\nCómo implicar a los jóvenes en la sostenibilidad;\nLa relación con la montaña y el uso responsable del entorno natural.\n\nEl público podrá participar con preguntas y reflexiones.
URL:https://www.ayto-sotodelreal.es/event/encuentros-vecinales-soto-verde-retos-y-futuro/
LOCATION:Centro Cultural Pedro de Lorenzo\, C/ Real\, nº6\, Soto del Real\, Madrid\, 28791\, España
CATEGORIES:Cultura,Municipio,Participación ciudadana
END:VEVENT
END:VCALENDAR