BEGIN:VCALENDAR
VERSION:2.0
PRODID:-//Ayuntamiento - Soto del Real - ECPv5.4.0.1//NONSGML v1.0//EN
CALSCALE:GREGORIAN
METHOD:PUBLISH
X-WR-CALNAME:Ayuntamiento - Soto del Real
X-ORIGINAL-URL:https://www.ayto-sotodelreal.es
X-WR-CALDESC:Eventos para Ayuntamiento - Soto del Real
BEGIN:VTIMEZONE
TZID:Europe/Paris
BEGIN:DAYLIGHT
TZOFFSETFROM:+0100
TZOFFSETTO:+0200
TZNAME:CEST
DTSTART:20260329T010000
END:DAYLIGHT
BEGIN:STANDARD
TZOFFSETFROM:+0200
TZOFFSETTO:+0100
TZNAME:CET
DTSTART:20261025T010000
END:STANDARD
END:VTIMEZONE
BEGIN:VEVENT
DTSTART;VALUE=DATE:20260525
DTEND;VALUE=DATE:20260526
DTSTAMP:20260421T195410
CREATED:20260421T091853Z
LAST-MODIFIED:20260421T091853Z
UID:50150-1779667200-1779753599@www.ayto-sotodelreal.es
SUMMARY:EXPO: ALUMNADO COSTURA Y CERÁMICA
DESCRIPTION:
URL:https://www.ayto-sotodelreal.es/event/expo-alumnado-costura-y-ceramica/
LOCATION:Centro Cultural Pedro de Lorenzo\, C/ Real\, nº6\, Soto del Real\, Madrid\, 28791\, España
CATEGORIES:Cultura,Educación,Exposiciones
ATTACH;FMTTYPE=image/jpeg:https://www.ayto-sotodelreal.es/wp-content/uploads/2026/04/CARTEL-COSTURA-Y-CERAMICA-EXPOSICION-ALUMNOS_page-0001.jpg
END:VEVENT
BEGIN:VEVENT
DTSTART;TZID=Europe/Paris:20260525T193000
DTEND;TZID=Europe/Paris:20260525T193000
DTSTAMP:20260421T195410
CREATED:20260121T081529Z
LAST-MODIFIED:20260121T081529Z
UID:48775-1779737400-1779737400@www.ayto-sotodelreal.es
SUMMARY:SESIONES DE CONVERSACIÓN EN INGLÉS
DESCRIPTION:FECHAS: 16 de febrero\, 9 y 23 de marzo\, 13 y 27 de abril\, 11 y 25 de mayo\, y 8 de junio; \nHORARIO: 19:30h. a 20:30 h; \nLUGAR: Centro cultural Pedro de Lorenzo; \nINSCRIPCIONES: GRATUITAS con INSCRIPCIÓN PREVIA obligatoria\, hasta el miércoles anterior a cada sesión. \nNIVEL: B1 o superior.
URL:https://www.ayto-sotodelreal.es/event/sesiones-de-conversacion-en-ingles-7/
LOCATION:Centro Cultural Pedro de Lorenzo\, C/ Real\, nº6\, Soto del Real\, Madrid\, 28791\, España
CATEGORIES:Cultura,Educación
ATTACH;FMTTYPE=image/jpeg:https://www.ayto-sotodelreal.es/wp-content/uploads/2026/01/SESIONES-DE-CONVERSACION-INGLES-.jpg
END:VEVENT
END:VCALENDAR