BEGIN:VCALENDAR
VERSION:2.0
PRODID:-//Ayuntamiento - Soto del Real - ECPv5.4.0.1//NONSGML v1.0//EN
CALSCALE:GREGORIAN
METHOD:PUBLISH
X-WR-CALNAME:Ayuntamiento - Soto del Real
X-ORIGINAL-URL:https://www.ayto-sotodelreal.es
X-WR-CALDESC:Eventos para Ayuntamiento - Soto del Real
BEGIN:VTIMEZONE
TZID:Europe/Paris
BEGIN:DAYLIGHT
TZOFFSETFROM:+0100
TZOFFSETTO:+0200
TZNAME:CEST
DTSTART:20260329T010000
END:DAYLIGHT
BEGIN:STANDARD
TZOFFSETFROM:+0200
TZOFFSETTO:+0100
TZNAME:CET
DTSTART:20261025T010000
END:STANDARD
END:VTIMEZONE
BEGIN:VEVENT
DTSTART;VALUE=DATE:20260515
DTEND;VALUE=DATE:20260516
DTSTAMP:20260423T121518
CREATED:20260405T085422Z
LAST-MODIFIED:20260405T085522Z
UID:49823-1778803200-1778889599@www.ayto-sotodelreal.es
SUMMARY:ROMERÍA SAN ISIDRO
DESCRIPTION:FECHA: 15 de mayo; \nHORARIO: \n12:00 – MISA CON dulzaineros y tamborileros en la Iglesia de la Inmaculada Concepción\n13:00 – PROCESIÓN Dulzaineros por las calles del municipio.\n13:30 – BENDICIÓN DE LOS CAMPOS en el Parque del Río\nGRUPO DE BAILE DE BECERRIL DE LA SIERRA en el Parque del Río\n14:00 – REPARTO DE BOLLOS PREÑAOS Y SANGRÍA en el Parque del Río.; \nLUGAR: Soto del Real; \nENTRADA: libre hasta completar aforo. 
URL:https://www.ayto-sotodelreal.es/event/romeria-san-isidro/
LOCATION:Soto del Real\, Soto del Real 
CATEGORIES:Cultura,Fiestas,Municipio
END:VEVENT
BEGIN:VEVENT
DTSTART;TZID=Europe/Paris:20260515T193000
DTEND;TZID=Europe/Paris:20260516T193000
DTSTAMP:20260423T121518
CREATED:20260405T085735Z
LAST-MODIFIED:20260405T090513Z
UID:49826-1778873400-1778959800@www.ayto-sotodelreal.es
SUMMARY:CINE DE ESTRENO
DESCRIPTION:FECHA: 15 y 16 de mayo; \nHORARIO: 19:30 h; \nLUGAR: C.A.T. Soto del Real; \nENTRADA: 5\,50€ 
URL:https://www.ayto-sotodelreal.es/event/cine-de-estreno-13/
LOCATION:CENTRO DE ARTE Y TURISMO (CAT)
CATEGORIES:Centro de Arte y Turismo,Cine,Cultura,Municipio
END:VEVENT
BEGIN:VEVENT
DTSTART;TZID=Europe/Paris:20260515T193000
DTEND;TZID=Europe/Paris:20260516T193000
DTSTAMP:20260423T121518
CREATED:20260410T125024Z
LAST-MODIFIED:20260410T125024Z
UID:50047-1778873400-1778959800@www.ayto-sotodelreal.es
SUMMARY:CINE: CUMBRES BORRASCOSAS
DESCRIPTION:
URL:https://www.ayto-sotodelreal.es/event/cine-cumbres-borrascosas/
CATEGORIES:Centro de Arte y Turismo,Cine,Cultura
ATTACH;FMTTYPE=image/jpeg:https://www.ayto-sotodelreal.es/wp-content/uploads/2026/02/Abril-y-Mayo-Cine-en-el-CAT-de-Soto.jpg
END:VEVENT
END:VCALENDAR