BEGIN:VCALENDAR
VERSION:2.0
PRODID:-//Ayuntamiento - Soto del Real - ECPv5.4.0.1//NONSGML v1.0//EN
CALSCALE:GREGORIAN
METHOD:PUBLISH
X-WR-CALNAME:Ayuntamiento - Soto del Real
X-ORIGINAL-URL:https://www.ayto-sotodelreal.es
X-WR-CALDESC:Eventos para Ayuntamiento - Soto del Real
BEGIN:VTIMEZONE
TZID:Europe/Paris
BEGIN:DAYLIGHT
TZOFFSETFROM:+0100
TZOFFSETTO:+0200
TZNAME:CEST
DTSTART:20260329T010000
END:DAYLIGHT
BEGIN:STANDARD
TZOFFSETFROM:+0200
TZOFFSETTO:+0100
TZNAME:CET
DTSTART:20261025T010000
END:STANDARD
END:VTIMEZONE
BEGIN:VEVENT
DTSTART;TZID=Europe/Paris:20260513T120000
DTEND;TZID=Europe/Paris:20260513T170000
DTSTAMP:20260423T140932
CREATED:20260404T113400Z
LAST-MODIFIED:20260416T064914Z
UID:49755-1778673600-1778691600@www.ayto-sotodelreal.es
SUMMARY:PERSONALIZACIÓN DE PRENDAS Y COMPLEMENTOS
DESCRIPTION:FECHA 13 de mayo; \nHORA: Taller 1 de 12:00 a 14:00 h y Taller 2 de 17:00 a 19:00 h; \nLUGAR: Edificio Almendro;  \nGRATUITO con INSCRIPCIÓN PREVIA en Centro Cultural \nPersonalización de prendas y complementos. En este taller\, se enseñarán técnicas de bordado o superposición de telas\, para que los/as participantes puedan decorar pañuelos\, cinturones\, camisetas…
URL:https://www.ayto-sotodelreal.es/event/personalizacion-de-prendas-y-complementos/
LOCATION:ALMENDRO
CATEGORIES:Cultura
ATTACH;FMTTYPE=image/jpeg:https://www.ayto-sotodelreal.es/wp-content/uploads/2026/04/05.13-CARTEL-PERSONALIZACION-PRENDAS-Y-COMPLEMENTOS.jpg
END:VEVENT
BEGIN:VEVENT
DTSTART;TZID=Europe/Paris:20260513T173000
DTEND;TZID=Europe/Paris:20260513T173000
DTSTAMP:20260423T140932
CREATED:20260405T081049Z
LAST-MODIFIED:20260405T104157Z
UID:49782-1778693400-1778693400@www.ayto-sotodelreal.es
SUMMARY:CUENTACUENTOS: CUENTOS DE EUROPA. B. AMAUDIES
DESCRIPTION:FECHA: 13 de mayo; \nHORA: 17:30 h; \nLUGAR: Parque del Río; \nPÚBLICO:  Público familiar a partir de 3 años \nENTRADA: Entrada libre hasta completar aforo \nCuentacuentos  a cargo de Brigitte Arnaudies. 
URL:https://www.ayto-sotodelreal.es/event/cuentacuentos-cuentos-de-europa-b-amaudies/
LOCATION:Parque del Río\, Av. de España \, Soto del Real \, Madrid\, 28791\, España
CATEGORIES:Biblioteca,Cultura,Infantil
END:VEVENT
END:VCALENDAR