BEGIN:VCALENDAR
VERSION:2.0
PRODID:-//Ayuntamiento - Soto del Real - ECPv5.4.0.1//NONSGML v1.0//EN
CALSCALE:GREGORIAN
METHOD:PUBLISH
X-WR-CALNAME:Ayuntamiento - Soto del Real
X-ORIGINAL-URL:https://www.ayto-sotodelreal.es
X-WR-CALDESC:Eventos para Ayuntamiento - Soto del Real
BEGIN:VTIMEZONE
TZID:Europe/Paris
BEGIN:DAYLIGHT
TZOFFSETFROM:+0100
TZOFFSETTO:+0200
TZNAME:CEST
DTSTART:20260329T010000
END:DAYLIGHT
BEGIN:STANDARD
TZOFFSETFROM:+0200
TZOFFSETTO:+0100
TZNAME:CET
DTSTART:20261025T010000
END:STANDARD
END:VTIMEZONE
BEGIN:VEVENT
DTSTART;TZID=Europe/Paris:20260510T123000
DTEND;TZID=Europe/Paris:20260510T123000
DTSTAMP:20260423T104009
CREATED:20260129T073747Z
LAST-MODIFIED:20260408T120258Z
UID:48972-1778416200-1778416200@www.ayto-sotodelreal.es
SUMMARY:TITIRIMUNDI: MUPPETS RAPSODY. CIA. ANÓNIMA TEATRO
DESCRIPTION:DÍA: 10 de mayo; \nHORA: 12:30 h; \nLUGAR: Plaza de la Villa; \nENTRADA: libre hasta completar aforo. 
URL:https://www.ayto-sotodelreal.es/event/titirimundi-mupets-rapsody/
LOCATION:Plaza de la Villa\, Plaza de la Villa\, Soto del Real \, madrid \, 28791
CATEGORIES:Cultura,Teatro
ATTACH;FMTTYPE=image/png:https://www.ayto-sotodelreal.es/wp-content/uploads/2026/01/Muppetsonfire_Hoapo-768x665-1.png
END:VEVENT
END:VCALENDAR