BEGIN:VCALENDAR
VERSION:2.0
PRODID:-//Ayuntamiento - Soto del Real - ECPv5.4.0.1//NONSGML v1.0//EN
CALSCALE:GREGORIAN
METHOD:PUBLISH
X-WR-CALNAME:Ayuntamiento - Soto del Real
X-ORIGINAL-URL:https://www.ayto-sotodelreal.es
X-WR-CALDESC:Eventos para Ayuntamiento - Soto del Real
BEGIN:VTIMEZONE
TZID:Europe/Paris
BEGIN:DAYLIGHT
TZOFFSETFROM:+0100
TZOFFSETTO:+0200
TZNAME:CEST
DTSTART:20260329T010000
END:DAYLIGHT
BEGIN:STANDARD
TZOFFSETFROM:+0200
TZOFFSETTO:+0100
TZNAME:CET
DTSTART:20261025T010000
END:STANDARD
END:VTIMEZONE
BEGIN:VEVENT
DTSTART;TZID=Europe/Paris:20260509T193000
DTEND;TZID=Europe/Paris:20260509T193000
DTSTAMP:20260423T103944
CREATED:20260405T083702Z
LAST-MODIFIED:20260408T120219Z
UID:49808-1778355000-1778355000@www.ayto-sotodelreal.es
SUMMARY:CONCIERTO: RESONANCIAS. LAURA SIERRA. PIANO.
DESCRIPTION:FECHA: 9 de mayo; \nHORARIO: 19:30 h; \nLUGAR: C.A.T. \nENTRADA: 8€. 
URL:https://www.ayto-sotodelreal.es/event/concierto-resonancias-laura-sierra-piano/
LOCATION:CENTRO DE ARTE Y TURISMO (CAT)
CATEGORIES:Centro de Arte y Turismo,Cultura,Música
ATTACH;FMTTYPE=image/jpeg:https://www.ayto-sotodelreal.es/wp-content/uploads/2026/04/Lauira-Sierra.jpg
END:VEVENT
END:VCALENDAR