BEGIN:VCALENDAR
VERSION:2.0
PRODID:-//Ayuntamiento - Soto del Real - ECPv5.4.0.1//NONSGML v1.0//EN
CALSCALE:GREGORIAN
METHOD:PUBLISH
X-WR-CALNAME:Ayuntamiento - Soto del Real
X-ORIGINAL-URL:https://www.ayto-sotodelreal.es
X-WR-CALDESC:Eventos para Ayuntamiento - Soto del Real
BEGIN:VTIMEZONE
TZID:Europe/Paris
BEGIN:DAYLIGHT
TZOFFSETFROM:+0100
TZOFFSETTO:+0200
TZNAME:CEST
DTSTART:20260329T010000
END:DAYLIGHT
BEGIN:STANDARD
TZOFFSETFROM:+0200
TZOFFSETTO:+0100
TZNAME:CET
DTSTART:20261025T010000
END:STANDARD
END:VTIMEZONE
BEGIN:VEVENT
DTSTART;VALUE=DATE:20260427
DTEND;VALUE=DATE:20260428
DTSTAMP:20260421T183222
CREATED:20260115T081844Z
LAST-MODIFIED:20260421T090755Z
UID:48616-1777248000-1777334399@www.ayto-sotodelreal.es
SUMMARY:EXPO: ENTRE DOS AGUAS
DESCRIPTION:FECHA: L a V del 27 de abril al 8 de mayo; \nHORA: 09:00-14:00 h y 16:00-21:00 h; \nLUGAR: Sala de exposiciones del Centro Cultural; \nENTRADA: gratuita hasta completar aforo.  \nEntre Dos Aguas. Aves migratorias en paso por los embalses de la sierra de Madrid \nExposición que incluye 22 fotografías de 50×70 cm en las que las protagonistas son las aves migratorias en paso por Madrid. Se incluye una selección de aves migratorias que se pueden observar en los embalses de la sierra durante los pasos\, algunas de ellas poco frecuentes y ocasionales.\nEl objetivo de la exposición es dar a conocer la gran diversidad de aves que se pueden ver en nuestro territorio y poner en valor los embalses de la sierra como puntos de parada en las rutas migratorias. Todas las fotos han sido realizadas en los embalses de Pedrezuela y Santillana que constituyen dos de los enclaves más importantes para las aves migratorias en Madrid.
URL:https://www.ayto-sotodelreal.es/event/expo-entre-dos-aguas/
LOCATION:Centro Cultural Pedro de Lorenzo\, C/ Real\, nº6\, Soto del Real\, Madrid\, 28791\, España
CATEGORIES:Biblioteca,Cultura
ATTACH;FMTTYPE=image/jpeg:https://www.ayto-sotodelreal.es/wp-content/uploads/2026/01/WhatsApp-Image-2026-01-15-at-12.18.04.jpeg
END:VEVENT
BEGIN:VEVENT
DTSTART;TZID=Europe/Paris:20260427T180000
DTEND;TZID=Europe/Paris:20260427T193000
DTSTAMP:20260421T183222
CREATED:20260107T083041Z
LAST-MODIFIED:20260420T090418Z
UID:48343-1777312800-1777318200@www.ayto-sotodelreal.es
SUMMARY:TALLER LECTURA DRAMATIZADA: DA VIDA A LAS LETRAS
DESCRIPTION:DÍAS: Lunes alternos de enero a junio de 2026.; \nHORA: 18:00 a 19:30 h; \nLUGAR: Biblioteca municipal Pedro de Lorenzo.  \nINSCRIPCIÓN: Inscripción en la biblioteca.  \nTaller de lectura dramatizada. Público adulto. Actividad gratuita
URL:https://www.ayto-sotodelreal.es/event/taller-lectura-dramatizada-da-vida-a-las-letras-7/
LOCATION:Biblioteca municipal Pedro Lorenzo\, C/ Real\, nº2\, Soto del Real \, Madrid\, 28791
CATEGORIES:Biblioteca,Cultura
ATTACH;FMTTYPE=image/png:https://www.ayto-sotodelreal.es/wp-content/uploads/2026/01/LECTURA-DRAMATIZADA-ENERO-2026.png
END:VEVENT
BEGIN:VEVENT
DTSTART;TZID=Europe/Paris:20260427T180000
DTEND;TZID=Europe/Paris:20260427T193000
DTSTAMP:20260421T183222
CREATED:20260323T080254Z
LAST-MODIFIED:20260323T080254Z
UID:49580-1777312800-1777318200@www.ayto-sotodelreal.es
SUMMARY:TALLER LECTURA DRAMATIZADA: DA VIDA A LAS LETRAS
DESCRIPTION:DÍAS: 13 y 27 abril de 2026.; \nHORA: 18:00 a 19:30 h; \nLUGAR: Biblioteca municipal Pedro de Lorenzo.  \nINSCRIPCIÓN: Inscripción en la biblioteca.  \nTaller de lectura dramatizada. Público adulto. Actividad gratuita
URL:https://www.ayto-sotodelreal.es/event/taller-lectura-dramatizada-da-vida-a-las-letras-4/
LOCATION:Biblioteca municipal Pedro Lorenzo\, C/ Real\, nº2\, Soto del Real \, Madrid\, 28791
CATEGORIES:Biblioteca,Cultura
ATTACH;FMTTYPE=image/png:https://www.ayto-sotodelreal.es/wp-content/uploads/2026/01/LECTURA-DRAMATIZADA-ENERO-2026.png
END:VEVENT
BEGIN:VEVENT
DTSTART;TZID=Europe/Paris:20260427T193000
DTEND;TZID=Europe/Paris:20260427T193000
DTSTAMP:20260421T183222
CREATED:20260121T081420Z
LAST-MODIFIED:20260121T081420Z
UID:48771-1777318200-1777318200@www.ayto-sotodelreal.es
SUMMARY:SESIONES DE CONVERSACIÓN EN INGLÉS
DESCRIPTION:FECHAS: 16 de febrero\, 9 y 23 de marzo\, 13 y 27 de abril\, 11 y 25 de mayo\, y 8 de junio; \nHORARIO: 19:30h. a 20:30 h; \nLUGAR: Centro cultural Pedro de Lorenzo; \nINSCRIPCIONES: GRATUITAS con INSCRIPCIÓN PREVIA obligatoria\, hasta el miércoles anterior a cada sesión. \nNIVEL: B1 o superior.
URL:https://www.ayto-sotodelreal.es/event/sesiones-de-conversacion-en-ingles-5/
LOCATION:Centro Cultural Pedro de Lorenzo\, C/ Real\, nº6\, Soto del Real\, Madrid\, 28791\, España
CATEGORIES:Cultura,Educación
ATTACH;FMTTYPE=image/jpeg:https://www.ayto-sotodelreal.es/wp-content/uploads/2026/01/SESIONES-DE-CONVERSACION-INGLES-.jpg
END:VEVENT
END:VCALENDAR