BEGIN:VCALENDAR
VERSION:2.0
PRODID:-//Ayuntamiento - Soto del Real - ECPv5.4.0.1//NONSGML v1.0//EN
CALSCALE:GREGORIAN
METHOD:PUBLISH
X-WR-CALNAME:Ayuntamiento - Soto del Real
X-ORIGINAL-URL:https://www.ayto-sotodelreal.es
X-WR-CALDESC:Eventos para Ayuntamiento - Soto del Real
BEGIN:VTIMEZONE
TZID:Europe/Paris
BEGIN:DAYLIGHT
TZOFFSETFROM:+0100
TZOFFSETTO:+0200
TZNAME:CEST
DTSTART:20260329T010000
END:DAYLIGHT
BEGIN:STANDARD
TZOFFSETFROM:+0200
TZOFFSETTO:+0100
TZNAME:CET
DTSTART:20261025T010000
END:STANDARD
END:VTIMEZONE
BEGIN:VEVENT
DTSTART;TZID=Europe/Paris:20260424T183000
DTEND;TZID=Europe/Paris:20260424T183000
DTSTAMP:20260421T183232
CREATED:20260420T120022Z
LAST-MODIFIED:20260420T120022Z
UID:50143-1777055400-1777055400@www.ayto-sotodelreal.es
SUMMARY:¿QUÉ SABEMOS DE LAS MUJERES ÍBERAS?
DESCRIPTION:
URL:https://www.ayto-sotodelreal.es/event/que-sabemos-de-las-mujeres-iberas/
LOCATION:Centro Cultural Pedro de Lorenzo\, C/ Real\, nº6\, Soto del Real\, Madrid\, 28791\, España
CATEGORIES:Cultura,Igualdad
ATTACH;FMTTYPE=image/jpeg:https://www.ayto-sotodelreal.es/wp-content/uploads/2026/04/¿QUE-SABEMOS-DE-LAS-MUJERES-IBERAS-UNA-NUEVA-MIRADA-DESDE-LA-ARQUEOLOGIA_20260330_194434_0000-1.jpg
END:VEVENT
END:VCALENDAR