BEGIN:VCALENDAR
VERSION:2.0
PRODID:-//Ayuntamiento - Soto del Real - ECPv5.4.0.1//NONSGML v1.0//EN
CALSCALE:GREGORIAN
METHOD:PUBLISH
X-WR-CALNAME:Ayuntamiento - Soto del Real
X-ORIGINAL-URL:https://www.ayto-sotodelreal.es
X-WR-CALDESC:Eventos para Ayuntamiento - Soto del Real
BEGIN:VTIMEZONE
TZID:Europe/Paris
BEGIN:DAYLIGHT
TZOFFSETFROM:+0100
TZOFFSETTO:+0200
TZNAME:CEST
DTSTART:20260329T010000
END:DAYLIGHT
BEGIN:STANDARD
TZOFFSETFROM:+0200
TZOFFSETTO:+0100
TZNAME:CET
DTSTART:20261025T010000
END:STANDARD
END:VTIMEZONE
BEGIN:VEVENT
DTSTART;TZID=Europe/Paris:20260412T190000
DTEND;TZID=Europe/Paris:20260412T190000
DTSTAMP:20260421T195342
CREATED:20260112T082312Z
LAST-MODIFIED:20260331T102914Z
UID:48519-1776020400-1776020400@www.ayto-sotodelreal.es
SUMMARY:DANZA: TAAMA\, LENGUA MADRE
DESCRIPTION:DANZA AFRICANA: TAAMA\, LENGUA MADRE  \n12 de abril | 19 h | CAT \nEntradas 5€ en mutick.com \nTAAMA\, LENGUA MADRE es un viaje\, un andar hacia las raíces del movimiento\, al corazón del encuentro\, al pulso compartido. Una ofrenda al cuerpo-mujer\, al círculo y al tambor.\nEn escena\, las músicas y danzas tradicionales de Guinea Conakry atraviesan los cuerpos de diez intérpretes. La ceremonia se convierte en acto escénico: lo ancestral y lo contemporáneo se entrelazan para crear un ritual vivo\, cargado de símbolos\, gestos y memorias en tránsito.\nLa danza africana se revela como lengua madre: archivo encarnado\, matriz de transmisión\, un lenguaje que vibra en la carne y que se resignifica en cada cuerpo que lo habita.\nTAAMA\, Lengua Madre celebra el cruce entre rito y escena\, entre lo íntimo y lo colectivo\, abriendo un espacio donde la danza se vuelve memoria\, presente y celebración compartida.\n 
URL:https://www.ayto-sotodelreal.es/event/danza-alma-bonal/
LOCATION:CENTRO DE ARTE Y TURISMO (CAT)
CATEGORIES:Centro de Arte y Turismo,Cultura,Música
ATTACH;FMTTYPE=image/png:https://www.ayto-sotodelreal.es/wp-content/uploads/2026/01/CARTELES-1.png
END:VEVENT
END:VCALENDAR