BEGIN:VCALENDAR
VERSION:2.0
PRODID:-//Ayuntamiento - Soto del Real - ECPv5.4.0.1//NONSGML v1.0//EN
CALSCALE:GREGORIAN
METHOD:PUBLISH
X-WR-CALNAME:Ayuntamiento - Soto del Real
X-ORIGINAL-URL:https://www.ayto-sotodelreal.es
X-WR-CALDESC:Eventos para Ayuntamiento - Soto del Real
BEGIN:VTIMEZONE
TZID:Europe/Paris
BEGIN:DAYLIGHT
TZOFFSETFROM:+0100
TZOFFSETTO:+0200
TZNAME:CEST
DTSTART:20260329T010000
END:DAYLIGHT
BEGIN:STANDARD
TZOFFSETFROM:+0200
TZOFFSETTO:+0100
TZNAME:CET
DTSTART:20261025T010000
END:STANDARD
END:VTIMEZONE
BEGIN:VEVENT
DTSTART;VALUE=DATE:20260309
DTEND;VALUE=DATE:20260314
DTSTAMP:20260421T200014
CREATED:20260108T121319Z
LAST-MODIFIED:20260127T093359Z
UID:48438-1773014400-1773446399@www.ayto-sotodelreal.es
SUMMARY:EXPO RED ITINER: AFECTO AL COLOR
DESCRIPTION:Exposición de la RED ITINER de Comunidad de Madrid. \nFECHA: del 6 al 30 de marzo; \nHORARIO: habitual Centro Cultural\, fines de semana consultar; \nLUGAR: Centro cultural: \nGRATUITO \nARTISTAS: Juan Carlos Bracho\, Paloma Gámez\, David Magán\, Ruth Morán\, Julio Sarramián. \nEsta exposición\, que se sitúa en un territorio mixto entre las artes plásticas y la ciencia de la percepción\, parte de una lectura especulativa sobre el color como catalizador de la experiencia artística y como instrumento de conocimiento tanto del arte actual como del propio individuo.\nEl color estructura nuestra vida cotidiana y la manera en que habitamos el mundo. Como señala Maurice Merleau-Ponty\, «toda conciencia es conciencia perceptiva»: vivimos los colores en relación con el cuerpo y el entorno. Su percepción no solo depende de cualidades visibles —forma\, textura\, transparencia—\, sino también de lo invisible —memoria\, intuición\, experiencias…—. \nMÁS INFO: https://www.comunidad.madrid/actividades/2025/exposicion-afecto-color-itiner-2026 
URL:https://www.ayto-sotodelreal.es/event/expo-red-itiner-afecto-al-color-2/
LOCATION:Centro Cultural Pedro de Lorenzo\, C/ Real\, nº6\, Soto del Real\, Madrid\, 28791\, España
CATEGORIES:Cultura,Exposiciones
ATTACH;FMTTYPE=image/jpeg:https://www.ayto-sotodelreal.es/wp-content/uploads/2026/01/AAFF-A3-CARTEL-AFECTO-AL-COLOR-SOTO-DEL-REAL.jpg
END:VEVENT
BEGIN:VEVENT
DTSTART;TZID=Europe/Paris:20260309T170000
DTEND;TZID=Europe/Paris:20260309T180000
DTSTAMP:20260421T200014
CREATED:20260108T123819Z
LAST-MODIFIED:20260212T075024Z
UID:48461-1773075600-1773079200@www.ayto-sotodelreal.es
SUMMARY:TALLER: CLAVE\, ¿QUÉ ES Y CÓMO UTILIZARLO?
DESCRIPTION:FECHA: 9 marzo; \nHORARIO: 17:00 a 18:00 h \nLUGAR: Centro cultural. \nGRATUITO con INSCRIPCIÓN PREVIA en Centro Cultural (presencial\, mail\, teléfono);  \nCl@ve es un sistema de identificación electrónica que permite a la ciudadanía acceder a servicios públicos de forma segura. En este curso aprenderás su funcionamiento\, cómo registrarte y los trámites que puedes realizar con él.
URL:https://www.ayto-sotodelreal.es/event/taller-clave-que-es-y-como-utilizarlo/
LOCATION:Centro Cultural Pedro de Lorenzo\, C/ Real\, nº6\, Soto del Real\, Madrid\, 28791\, España
CATEGORIES:Cultura
ATTACH;FMTTYPE=image/png:https://www.ayto-sotodelreal.es/wp-content/uploads/2026/01/CARTEL_Talleres-cibervoluntarios-unificado-11-feb.png
END:VEVENT
BEGIN:VEVENT
DTSTART;TZID=Europe/Paris:20260309T193000
DTEND;TZID=Europe/Paris:20260309T193000
DTSTAMP:20260421T200014
CREATED:20260121T081225Z
LAST-MODIFIED:20260121T081225Z
UID:48765-1773084600-1773084600@www.ayto-sotodelreal.es
SUMMARY:SESIONES DE CONVERSACIÓN EN INGLÉS
DESCRIPTION:FECHAS: 16 de febrero\, 9 y 23 de marzo\, 13 y 27 de abril\, 11 y 25 de mayo\, y 8 de junio; \nHORARIO: 19:30h. a 20:30 h; \nLUGAR: Centro cultural Pedro de Lorenzo; \nINSCRIPCIONES: GRATUITAS con INSCRIPCIÓN PREVIA obligatoria\, hasta el miércoles anterior a cada sesión. \nNIVEL: B1 o superior.
URL:https://www.ayto-sotodelreal.es/event/sesiones-de-conversacion-en-ingles-2/
LOCATION:Centro Cultural Pedro de Lorenzo\, C/ Real\, nº6\, Soto del Real\, Madrid\, 28791\, España
CATEGORIES:Cultura,Educación
ATTACH;FMTTYPE=image/jpeg:https://www.ayto-sotodelreal.es/wp-content/uploads/2026/01/SESIONES-DE-CONVERSACION-INGLES-.jpg
END:VEVENT
END:VCALENDAR