BEGIN:VCALENDAR
VERSION:2.0
PRODID:-//Ayuntamiento - Soto del Real - ECPv5.4.0.1//NONSGML v1.0//EN
CALSCALE:GREGORIAN
METHOD:PUBLISH
X-WR-CALNAME:Ayuntamiento - Soto del Real
X-ORIGINAL-URL:https://www.ayto-sotodelreal.es
X-WR-CALDESC:Eventos para Ayuntamiento - Soto del Real
BEGIN:VTIMEZONE
TZID:Europe/Paris
BEGIN:DAYLIGHT
TZOFFSETFROM:+0100
TZOFFSETTO:+0200
TZNAME:CEST
DTSTART:20260329T010000
END:DAYLIGHT
BEGIN:STANDARD
TZOFFSETFROM:+0200
TZOFFSETTO:+0100
TZNAME:CET
DTSTART:20261025T010000
END:STANDARD
END:VTIMEZONE
BEGIN:VEVENT
DTSTART;TZID=Europe/Paris:20260307T193000
DTEND;TZID=Europe/Paris:20260307T193000
DTSTAMP:20260421T195415
CREATED:20260112T080142Z
LAST-MODIFIED:20260225T130136Z
UID:48496-1772911800-1772911800@www.ayto-sotodelreal.es
SUMMARY:CONCIERTO: MUJERES PIONERAS DEL SWING EN ESPAÑA
DESCRIPTION:DÍAS: 7 marzo; \nHORA: 19:30 h; \nLUGAR: Centro de Arte y Turismo;  \nPÚBLICO: Recomendado para público a partir de 12 años; \nENTRADA: 8€ en taquilla y mutick.com  \nConcierto-recital que rescata a las primeras cantantes de swing en España (1940-1955)\, mujeres valientes que rompieron moldes con letras adelantadas a su tiempo o adaptadas a los cánones sociales de la época. \nPía Tedesco homenajea figuras como las Hermanas Russell\, la vasca Mary Merche y la genial Rina Celi\, pionera del swing o música hot. \nUna propuesta que mezcla entretenimiento\, historia y cultura\, con espacio escénico abierto a bailarines de swing\, como ya ocurrió en Fémina Jazz (Madrid) o el Festival de Jazz de León. \n\nIntérpretes:\nPía Tedesco (voz y narración)\nAlejandro Ollero (contrabajo)\nJoshua Díaz (clarinete)\nNéstor Ballesteros / Coni Lecher (piano);\nGonzalo Maestre / Fernando Lamas (batería).\n\nDuración: 75 minutos\, con descanso \n  \n\n  \n  \n  \n 
URL:https://www.ayto-sotodelreal.es/event/concierto-mujeres-pioneras-del-swing-en-espana/
LOCATION:CENTRO DE ARTE Y TURISMO (CAT)
CATEGORIES:Centro de Arte y Turismo,Cultura,Música
ATTACH;FMTTYPE=image/png:https://www.ayto-sotodelreal.es/wp-content/uploads/2026/01/mujeres-historia-swing.png
END:VEVENT
END:VCALENDAR