BEGIN:VCALENDAR
VERSION:2.0
PRODID:-//Ayuntamiento - Soto del Real - ECPv5.4.0.1//NONSGML v1.0//EN
CALSCALE:GREGORIAN
METHOD:PUBLISH
X-WR-CALNAME:Ayuntamiento - Soto del Real
X-ORIGINAL-URL:https://www.ayto-sotodelreal.es
X-WR-CALDESC:Eventos para Ayuntamiento - Soto del Real
BEGIN:VTIMEZONE
TZID:Europe/Paris
BEGIN:DAYLIGHT
TZOFFSETFROM:+0100
TZOFFSETTO:+0200
TZNAME:CEST
DTSTART:20260329T010000
END:DAYLIGHT
BEGIN:STANDARD
TZOFFSETFROM:+0200
TZOFFSETTO:+0100
TZNAME:CET
DTSTART:20261025T010000
END:STANDARD
END:VTIMEZONE
BEGIN:VEVENT
DTSTART;VALUE=DATE:20260223
DTEND;VALUE=DATE:20260228
DTSTAMP:20260421T195317
CREATED:20260127T094423Z
LAST-MODIFIED:20260127T094423Z
UID:48917-1771804800-1772236799@www.ayto-sotodelreal.es
SUMMARY:EXPO: DIVERSIDAD TRANSCULTURAL. CARMEN ARIAS
DESCRIPTION:La exposición Diversidad Multidimensional presenta esculturas murales policromadas y obras pictóricas donde rostros multiculturales y ancestrales se entrelazan con miradas a lo cósmico-universal\, guardianes de lo sagrado y presencias de otras dimensiones. Realizadas con\nacrílico\, barro y materiales mixtos\, las obras sugieren una diversidad multidimensional más allá de lo visible y lo conocido. Cada pieza celebra la multiplicidad cultural y espiritual que nos habita\, porque\, aunque distintos\, somos universales y compartimos una misma raíz profunda y un origen común. Una invitación a contemplar la unidad en la diversidad y a viajar entre raíces y constelaciones.
URL:https://www.ayto-sotodelreal.es/event/expo-diversidad-transcultural-carmen-arias-2/
LOCATION:Centro Cultural Pedro de Lorenzo\, C/ Real\, nº6\, Soto del Real\, Madrid\, 28791\, España
CATEGORIES:Cultura,Exposiciones
ATTACH;FMTTYPE=image/jpeg:https://www.ayto-sotodelreal.es/wp-content/uploads/2026/01/02.19feb-a-5marzo-CARMEN-ARIAS.jpg
END:VEVENT
BEGIN:VEVENT
DTSTART;TZID=Europe/Paris:20260225T173000
DTEND;TZID=Europe/Paris:20260225T173000
DTSTAMP:20260421T195317
CREATED:20260107T085349Z
LAST-MODIFIED:20260126T074557Z
UID:48359-1772040600-1772040600@www.ayto-sotodelreal.es
SUMMARY:CUENTACUENTOS: VAYA FAUNA. ALBERTO SEBASTIAN
DESCRIPTION:FECHA: 25 de febrero; \nHORA: 17:30 h;  \nLUGAR: Salón de actos Centro Cultural;  \nPÚBLICO: Público familiar a partir de 3 años; \nENTRADA: Entrada libre hasta completar aforo. \nCuentacuentos a cargo de  Alberto Sebastián.
URL:https://www.ayto-sotodelreal.es/event/cuentacuentos-vaya-fauna-alberto-sebastian/
LOCATION:Centro Cultural Pedro de Lorenzo\, C/ Real\, nº6\, Soto del Real\, Madrid\, 28791\, España
CATEGORIES:Biblioteca,Cultura,Infantil,Juventud
ATTACH;FMTTYPE=image/jpeg:https://www.ayto-sotodelreal.es/wp-content/uploads/2026/01/Cuentacuentos-25-feb-Alberto-Sebastian.jpg
END:VEVENT
BEGIN:VEVENT
DTSTART;TZID=Europe/Paris:20260225T190000
DTEND;TZID=Europe/Paris:20260225T190000
DTSTAMP:20260421T195317
CREATED:20260107T085741Z
LAST-MODIFIED:20260126T075726Z
UID:48361-1772046000-1772046000@www.ayto-sotodelreal.es
SUMMARY:RADIACIONES EN MEDICINA: QUÉ DEBEN SABER LOS PACIENTES Y FAMILIARES
DESCRIPTION:¿Qué deben saber los pacientes y sus familiares sobre las radiaciones en medicina?\nCharla a cargo de Marisa Tormo\, directora de comunicación de la Sociedad Española de Protección Radiológica\, dentro del proyecto Lecturas que curan. \nFECHA: Miércoles 25 de febrero; \nHORA: 19:00 h; \nLUGAR: Salón de actos de Centro Cultural; \nENTRADA: Entrada libre hasta completar aforo. 
URL:https://www.ayto-sotodelreal.es/event/radiaciones-en-medicina/
LOCATION:Centro Cultural Pedro de Lorenzo\, C/ Real\, nº6\, Soto del Real\, Madrid\, 28791\, España
CATEGORIES:Biblioteca,Cultura
ATTACH;FMTTYPE=image/jpeg:https://www.ayto-sotodelreal.es/wp-content/uploads/2026/01/Charla-Radiaciones-medicina-25-feb.jpg
END:VEVENT
END:VCALENDAR