BEGIN:VCALENDAR
VERSION:2.0
PRODID:-//Ayuntamiento - Soto del Real - ECPv5.4.0.1//NONSGML v1.0//EN
CALSCALE:GREGORIAN
METHOD:PUBLISH
X-WR-CALNAME:Ayuntamiento - Soto del Real
X-ORIGINAL-URL:https://www.ayto-sotodelreal.es
X-WR-CALDESC:Eventos para Ayuntamiento - Soto del Real
BEGIN:VTIMEZONE
TZID:Europe/Paris
BEGIN:DAYLIGHT
TZOFFSETFROM:+0100
TZOFFSETTO:+0200
TZNAME:CEST
DTSTART:20260329T010000
END:DAYLIGHT
BEGIN:STANDARD
TZOFFSETFROM:+0200
TZOFFSETTO:+0100
TZNAME:CET
DTSTART:20261025T010000
END:STANDARD
END:VTIMEZONE
BEGIN:VEVENT
DTSTART;VALUE=DATE:20260216
DTEND;VALUE=DATE:20260219
DTSTAMP:20260421T213928
CREATED:20260107T084059Z
LAST-MODIFIED:20260126T074124Z
UID:48351-1771200000-1771459199@www.ayto-sotodelreal.es
SUMMARY:40 MUESTRA DEL LIBRO INFANTIL Y JUVENIL
DESCRIPTION:FECHA: 12-18 de febrero; \nHORA: 09:00 a 14:00 h y 16:00 a 21:00 h;  \nLUGAR: Sala de exposiciones Centro Cultural;  \nSelección de algunos de los mejores títulos de literatura infantil y juvenil publicados en 2025 organizados por edades.
URL:https://www.ayto-sotodelreal.es/event/40-muestra-del-libro-infantil-y-juvenil-2/
LOCATION:Centro Cultural Pedro de Lorenzo\, C/ Real\, nº6\, Soto del Real\, Madrid\, 28791\, España
CATEGORIES:Biblioteca,Cultura,Infantil,Juventud
ATTACH;FMTTYPE=image/jpeg:https://www.ayto-sotodelreal.es/wp-content/uploads/2026/01/Muestra-LIJ-12-18-feb.jpg
END:VEVENT
END:VCALENDAR