BEGIN:VCALENDAR
VERSION:2.0
PRODID:-//Ayuntamiento - Soto del Real - ECPv5.4.0.1//NONSGML v1.0//EN
CALSCALE:GREGORIAN
METHOD:PUBLISH
X-WR-CALNAME:Ayuntamiento - Soto del Real
X-ORIGINAL-URL:https://www.ayto-sotodelreal.es
X-WR-CALDESC:Eventos para Ayuntamiento - Soto del Real
BEGIN:VTIMEZONE
TZID:Europe/Paris
BEGIN:DAYLIGHT
TZOFFSETFROM:+0100
TZOFFSETTO:+0200
TZNAME:CEST
DTSTART:20260329T010000
END:DAYLIGHT
BEGIN:STANDARD
TZOFFSETFROM:+0200
TZOFFSETTO:+0100
TZNAME:CET
DTSTART:20261025T010000
END:STANDARD
END:VTIMEZONE
BEGIN:VEVENT
DTSTART;VALUE=DATE:20260212
DTEND;VALUE=DATE:20260214
DTSTAMP:20260421T213924
CREATED:20260107T083939Z
LAST-MODIFIED:20260126T074026Z
UID:48349-1770854400-1771027199@www.ayto-sotodelreal.es
SUMMARY:40 MUESTRA DEL LIBRO INFANTIL Y JUVENIL
DESCRIPTION:FECHA: 12-18 de febrero; \nHORA: 09:00 a 14:00 h y 16:00 a 21:00 h;  \nLUGAR: Sala de exposiciones Centro Cultural;  \nSelección de algunos de los mejores títulos de literatura infantil y juvenil publicados en 2025 organizados por edades.
URL:https://www.ayto-sotodelreal.es/event/40-muestra-del-libro-infantil-y-juvenil/
LOCATION:Centro Cultural Pedro de Lorenzo\, C/ Real\, nº6\, Soto del Real\, Madrid\, 28791\, España
CATEGORIES:Biblioteca,Cultura,Infantil,Juventud
ATTACH;FMTTYPE=image/jpeg:https://www.ayto-sotodelreal.es/wp-content/uploads/2026/01/Muestra-LIJ-12-18-feb.jpg
END:VEVENT
BEGIN:VEVENT
DTSTART;TZID=Europe/Paris:20260212T173000
DTEND;TZID=Europe/Paris:20260212T173000
DTSTAMP:20260421T213924
CREATED:20260107T084537Z
LAST-MODIFIED:20260126T074706Z
UID:48353-1770917400-1770917400@www.ayto-sotodelreal.es
SUMMARY:CUENTACUENTOS: LOS CUENTOS COLOSALES
DESCRIPTION:FECHA: Jueves 12 de febrero; \nHORA: 17:30 h;  \nLUGAR: Sala de exposiciones Centro Cultural;  \nPÚBLICO: Público familiar a partir de 3 años; \nENTRADA: Entrada libre hasta completar aforo. \nCuentacuentos a cargo de Anahí Muñoz para presentar la 40 Muestra del Libro Infantil y Juvenil. 
URL:https://www.ayto-sotodelreal.es/event/cuentacuentos-los-cuentos-colosales/
LOCATION:Centro Cultural Pedro de Lorenzo\, C/ Real\, nº6\, Soto del Real\, Madrid\, 28791\, España
CATEGORIES:Biblioteca,Cultura,Infantil,Juventud
ATTACH;FMTTYPE=image/jpeg:https://www.ayto-sotodelreal.es/wp-content/uploads/2026/01/Cuentacuentos-12-feb.jpg
END:VEVENT
BEGIN:VEVENT
DTSTART;TZID=Europe/Paris:20260212T183000
DTEND;TZID=Europe/Paris:20260212T203000
DTSTAMP:20260421T213924
CREATED:20260109T073009Z
LAST-MODIFIED:20260210T072330Z
UID:48473-1770921000-1770928200@www.ayto-sotodelreal.es
SUMMARY:EL BESO EN EL ARTE. MONOGRÁFICO Hª ARTE
DESCRIPTION:
URL:https://www.ayto-sotodelreal.es/event/el-beso-en-el-arte-monografico-ha-arte/
LOCATION:Centro Cultural Pedro de Lorenzo\, C/ Real\, nº6\, Soto del Real\, Madrid\, 28791\, España
CATEGORIES:Cultura,Educación
ATTACH;FMTTYPE=image/jpeg:https://www.ayto-sotodelreal.es/wp-content/uploads/2026/01/02.12-MONOGRAFICO-HISTORIA-DEL-ARTE-25-26.jpg
END:VEVENT
END:VCALENDAR