BEGIN:VCALENDAR
VERSION:2.0
PRODID:-//Ayuntamiento - Soto del Real - ECPv5.4.0.1//NONSGML v1.0//EN
CALSCALE:GREGORIAN
METHOD:PUBLISH
X-WR-CALNAME:Ayuntamiento - Soto del Real
X-ORIGINAL-URL:https://www.ayto-sotodelreal.es
X-WR-CALDESC:Eventos para Ayuntamiento - Soto del Real
BEGIN:VTIMEZONE
TZID:Europe/Paris
BEGIN:DAYLIGHT
TZOFFSETFROM:+0100
TZOFFSETTO:+0200
TZNAME:CEST
DTSTART:20260329T010000
END:DAYLIGHT
BEGIN:STANDARD
TZOFFSETFROM:+0200
TZOFFSETTO:+0100
TZNAME:CET
DTSTART:20261025T010000
END:STANDARD
END:VTIMEZONE
BEGIN:VEVENT
DTSTART;VALUE=DATE:20260119
DTEND;VALUE=DATE:20260125
DTSTAMP:20260423T123247
CREATED:20260107T073218Z
LAST-MODIFIED:20260107T073218Z
UID:48308-1768780800-1769299199@www.ayto-sotodelreal.es
SUMMARY:EXPO: JEAN B. VAN DEN HEEDE. ESCULTURAS\, HOY.
DESCRIPTION:
URL:https://www.ayto-sotodelreal.es/event/expo-jean-b-van-den-heede-esculturas-hoy-2/
LOCATION:Centro Cultural Pedro de Lorenzo\, C/ Real\, nº6\, Soto del Real\, Madrid\, 28791\, España
CATEGORIES:Cultura,Exposiciones
ATTACH;FMTTYPE=image/jpeg:https://www.ayto-sotodelreal.es/wp-content/uploads/2026/01/cartel-EXPOSICION-ESCULTURAS-HOY.jpg
END:VEVENT
BEGIN:VEVENT
DTSTART;TZID=Europe/Paris:20260123T193000
DTEND;TZID=Europe/Paris:20260123T193000
DTSTAMP:20260423T123247
CREATED:20251222T071153Z
LAST-MODIFIED:20260108T090930Z
UID:48196-1769196600-1769196600@www.ayto-sotodelreal.es
SUMMARY:CINE: SANTOSH (SECRETOS DE UN CRIMEN)
DESCRIPTION:
URL:https://www.ayto-sotodelreal.es/event/cine-santosh-secretos-de-un-crimen/
LOCATION:CENTRO DE ARTE Y TURISMO (CAT)
CATEGORIES:Centro de Arte y Turismo,Cine,Cultura
ATTACH;FMTTYPE=image/jpeg:https://www.ayto-sotodelreal.es/wp-content/uploads/2025/12/ENEROCine-en-el-Cat-SOTO.jpg
END:VEVENT
END:VCALENDAR