BEGIN:VCALENDAR
VERSION:2.0
PRODID:-//Ayuntamiento - Soto del Real - ECPv5.4.0.1//NONSGML v1.0//EN
CALSCALE:GREGORIAN
METHOD:PUBLISH
X-WR-CALNAME:Ayuntamiento - Soto del Real
X-ORIGINAL-URL:https://www.ayto-sotodelreal.es
X-WR-CALDESC:Eventos para Ayuntamiento - Soto del Real
BEGIN:VTIMEZONE
TZID:Europe/Paris
BEGIN:DAYLIGHT
TZOFFSETFROM:+0100
TZOFFSETTO:+0200
TZNAME:CEST
DTSTART:20250330T010000
END:DAYLIGHT
BEGIN:STANDARD
TZOFFSETFROM:+0200
TZOFFSETTO:+0100
TZNAME:CET
DTSTART:20251026T010000
END:STANDARD
END:VTIMEZONE
BEGIN:VEVENT
DTSTART;TZID=Europe/Paris:20251214T193000
DTEND;TZID=Europe/Paris:20251214T193000
DTSTAMP:20260425T133714
CREATED:20251030T072540Z
LAST-MODIFIED:20251030T072540Z
UID:47707-1765740600-1765740600@www.ayto-sotodelreal.es
SUMMARY:CINE: LA DEUDA
DESCRIPTION: \n 
URL:https://www.ayto-sotodelreal.es/event/cine-la-deuda-2/
LOCATION:CENTRO DE ARTE Y TURISMO (CAT)
CATEGORIES:Centro de Arte y Turismo,Cine,Cultura,Fiestas
ATTACH;FMTTYPE=image/jpeg:https://www.ayto-sotodelreal.es/wp-content/uploads/2025/10/LA-DEUDA-SOTO-SOTO-DEL-REAL.jpg
END:VEVENT
END:VCALENDAR