BEGIN:VCALENDAR
VERSION:2.0
PRODID:-//Ayuntamiento - Soto del Real - ECPv5.4.0.1//NONSGML v1.0//EN
CALSCALE:GREGORIAN
METHOD:PUBLISH
X-WR-CALNAME:Ayuntamiento - Soto del Real
X-ORIGINAL-URL:https://www.ayto-sotodelreal.es
X-WR-CALDESC:Eventos para Ayuntamiento - Soto del Real
BEGIN:VTIMEZONE
TZID:Europe/Paris
BEGIN:DAYLIGHT
TZOFFSETFROM:+0100
TZOFFSETTO:+0200
TZNAME:CEST
DTSTART:20250330T010000
END:DAYLIGHT
BEGIN:STANDARD
TZOFFSETFROM:+0200
TZOFFSETTO:+0100
TZNAME:CET
DTSTART:20251026T010000
END:STANDARD
END:VTIMEZONE
BEGIN:VEVENT
DTSTART;TZID=Europe/Paris:20251201T120000
DTEND;TZID=Europe/Paris:20251201T160000
DTSTAMP:20260425T133708
CREATED:20251028T081324Z
LAST-MODIFIED:20251102T100758Z
UID:47676-1764590400-1764604800@www.ayto-sotodelreal.es
SUMMARY:DECORACIÓN NAVIDEÑA CON TELAS
DESCRIPTION:Taller de costura \nFECHA: 1 de diciembre; \nHORA: dos talleres:  \n\nmatutino\, de 12:00 a 14:00 h;\nvespertino\, de 16:00 a 18:00 h;\n\nLUGAR: Aula Costura – Edificio Almendro.  \nGRATUITO previa INSCRIPCIÓN en Centro Cultural (únicamente se puede solicitar uno de los talleres). \nAprenderemos a realizar decoración navideña para el hogar utilizando la costura y telas como base.
URL:https://www.ayto-sotodelreal.es/event/decoracion-navidena-con-telas-2/
CATEGORIES:Cultura,Fiestas
ATTACH;FMTTYPE=image/jpeg:https://www.ayto-sotodelreal.es/wp-content/uploads/2025/10/TALLER-DE-DECORACION-NAVIDAD-CON-TELAS.jpg
END:VEVENT
END:VCALENDAR