BEGIN:VCALENDAR
VERSION:2.0
PRODID:-//Ayuntamiento - Soto del Real - ECPv5.4.0.1//NONSGML v1.0//EN
CALSCALE:GREGORIAN
METHOD:PUBLISH
X-WR-CALNAME:Ayuntamiento - Soto del Real
X-ORIGINAL-URL:https://www.ayto-sotodelreal.es
X-WR-CALDESC:Eventos para Ayuntamiento - Soto del Real
BEGIN:VTIMEZONE
TZID:Europe/Paris
BEGIN:DAYLIGHT
TZOFFSETFROM:+0100
TZOFFSETTO:+0200
TZNAME:CEST
DTSTART:20250330T010000
END:DAYLIGHT
BEGIN:STANDARD
TZOFFSETFROM:+0200
TZOFFSETTO:+0100
TZNAME:CET
DTSTART:20251026T010000
END:STANDARD
END:VTIMEZONE
BEGIN:VEVENT
DTSTART;VALUE=DATE:20251117
DTEND;VALUE=DATE:20251122
DTSTAMP:20260425T163907
CREATED:20250909T122450Z
LAST-MODIFIED:20250915T064358Z
UID:46606-1763337600-1763769599@www.ayto-sotodelreal.es
SUMMARY:EXPOSICIÓN: HUMORES FEMENINOS
DESCRIPTION: HUMORES FEMENINOS \nTIPO DE ACTIVIDAD: Exposición de fotografía. Lorea Jayo \nFECHA: del 15 a 30 de noviembre \nHORA: lunes a viernes de 9:00 a 14:00 y de 16:00 a 21:00\, viernes hasta las 20:00h. Consultar apertura en fin de semana. \nLUGAR: Sala de exposiciones Centro cultural \nGRATUITO \nSe trata de la representación fotográfica de 24 humores o estados de ánimos femeninos. Técnica fotográfica digital surrealista.
URL:https://www.ayto-sotodelreal.es/event/exposicion-humores-femeninos/
LOCATION:Centro Cultural Pedro de Lorenzo\, C/ Real\, nº6\, Soto del Real\, Madrid\, 28791\, España
CATEGORIES:Cultura,Exposiciones,Turismo
ATTACH;FMTTYPE=image/jpeg:https://www.ayto-sotodelreal.es/wp-content/uploads/2025/09/CARTEL_Lorea-Jayo-scaled.jpg
END:VEVENT
BEGIN:VEVENT
DTSTART;TZID=Europe/Paris:20251120T180000
DTEND;TZID=Europe/Paris:20251120T200000
DTSTAMP:20260425T163907
CREATED:20251012T082630Z
LAST-MODIFIED:20251012T082724Z
UID:47433-1763661600-1763668800@www.ayto-sotodelreal.es
SUMMARY:UN ESPÍRITU LIBRE: MARUJA MALLO\, DAMA DEL SURREALISMO
DESCRIPTION:Con motivo de la Primera Retrospectiva que se realiza de la artista en el Museo Nacional Centro de Arte Reina Sofía\, nos acercaremos a esta figura esencial del surrealismo español\, integrante de una generación que marcó un hito cultural. \nDescubriremos su proceso creativo y disfrutaremos de su espíritu excéntrico y “libre hasta las cachas”\, una gran creadora\, de grandes amores\, pasiones e ideas desorbitadas.
URL:https://www.ayto-sotodelreal.es/event/un-espiritu-libre-maruja-mallo-dama-del-surrealismo/
LOCATION:Centro Cultural Pedro de Lorenzo\, C/ Real\, nº6\, Soto del Real\, Madrid\, 28791\, España
CATEGORIES:Cultura
ATTACH;FMTTYPE=image/jpeg:https://www.ayto-sotodelreal.es/wp-content/uploads/2025/10/MONOGRAFICOS-HISTORIA-DEL-ARTE-25-26.jpg
END:VEVENT
END:VCALENDAR