BEGIN:VCALENDAR
VERSION:2.0
PRODID:-//Ayuntamiento - Soto del Real - ECPv5.4.0.1//NONSGML v1.0//EN
CALSCALE:GREGORIAN
METHOD:PUBLISH
X-WR-CALNAME:Ayuntamiento - Soto del Real
X-ORIGINAL-URL:https://www.ayto-sotodelreal.es
X-WR-CALDESC:Eventos para Ayuntamiento - Soto del Real
BEGIN:VTIMEZONE
TZID:Europe/Paris
BEGIN:DAYLIGHT
TZOFFSETFROM:+0100
TZOFFSETTO:+0200
TZNAME:CEST
DTSTART:20250330T010000
END:DAYLIGHT
BEGIN:STANDARD
TZOFFSETFROM:+0200
TZOFFSETTO:+0100
TZNAME:CET
DTSTART:20251026T010000
END:STANDARD
END:VTIMEZONE
BEGIN:VEVENT
DTSTART;VALUE=DATE:20251027
DTEND;VALUE=DATE:20251101
DTSTAMP:20260425T150458
CREATED:20251008T075649Z
LAST-MODIFIED:20251008T075649Z
UID:47399-1761523200-1761955199@www.ayto-sotodelreal.es
SUMMARY:EXPOSICIÓN: ENTRE PÁGINAS
DESCRIPTION:ENTRE PÁGINAS \nTIPO DE ACTIVIDAD: Exposición de objetos olvidados entre libros. \nFECHA: del 13 a 31 de octubre \nHORA: lunes a viernes de 9:00 a 14:00 y de 16:00 a 21:00\, viernes hasta las 20:00h. Consultar apertura en fin de semana. \nLUGAR: Sala de exposiciones Centro cultural \nGRATUITO \n“ENTRE PÁGINAS” CONTIENE INSTALACIONES ARTÍSTICAS REALIZADAS CON LOS OBJETOS QUE  QUEDARON OLVIDADOS EN LOS LIBROS. EN LAS 17 LIBRERÍAS DE AIDA BOOKS&MORE\, EL EQUIPO DE\nVOLUNTARIADO RECOGE\, CLASIFICA Y VENDE LIBROS QUE  ENTREGAN LOS CIUDADANOS E INSTITUCIONES SOLIDARIAMENTE.
URL:https://www.ayto-sotodelreal.es/event/exposicion-entre-paginas-4/
LOCATION:Centro Cultural Pedro de Lorenzo\, C/ Real\, nº6\, Soto del Real\, Madrid\, 28791\, España
CATEGORIES:Cultura,Exposiciones,Turismo
ATTACH;FMTTYPE=image/jpeg:https://www.ayto-sotodelreal.es/wp-content/uploads/2025/09/NATALIA-GARCIA-CARTEL-EXPO-ENTRE-PAGINAS.jpg
END:VEVENT
BEGIN:VEVENT
DTSTART;TZID=Europe/Paris:20251027T110000
DTEND;TZID=Europe/Paris:20251027T123000
DTSTAMP:20260425T150458
CREATED:20250830T091016Z
LAST-MODIFIED:20251002T104117Z
UID:46502-1761562800-1761568200@www.ayto-sotodelreal.es
SUMMARY:TALLER: ALIMENTA TU BIENESTAR
DESCRIPTION:DÍA: 27 de octubre al 1 de diciembre; \nHORA: lunes y miércoles de 11:00 a 12:30 h; \nLUGAR: Salón de Actos Centro Cultural;  \nPÚBLICO: mayores de 60 años; \nPRECIO: gratuito;  \nINSCRIPCIONES: Centro Cultural de Soto del Real / Tel. 918480114 / centrocultural@ayto-sotodelreal.es \nA través de este taller se promocionan hábitos saludables que pueden ayudar a mejorar la calidad de vida de las personas. Se dan a conocer las intolerancias alimenticias y las\nprincipales interacciones fármaco-alimento\, y se ofrecen recomendaciones para comer bien sin cocinar.
URL:https://www.ayto-sotodelreal.es/event/taller-alimenta-tu-bienestar/
LOCATION:Centro Cultural Pedro de Lorenzo\, C/ Real\, nº6\, Soto del Real\, Madrid\, 28791\, España
CATEGORIES:Cultura,Mayores,Sanidad
ATTACH;FMTTYPE=image/jpeg:https://www.ayto-sotodelreal.es/wp-content/uploads/2025/08/ALIMENTA-TU-BIENESTAR-1.jpg
END:VEVENT
END:VCALENDAR