BEGIN:VCALENDAR
VERSION:2.0
PRODID:-//Ayuntamiento - Soto del Real - ECPv5.4.0.1//NONSGML v1.0//EN
CALSCALE:GREGORIAN
METHOD:PUBLISH
X-WR-CALNAME:Ayuntamiento - Soto del Real
X-ORIGINAL-URL:https://www.ayto-sotodelreal.es
X-WR-CALDESC:Eventos para Ayuntamiento - Soto del Real
BEGIN:VTIMEZONE
TZID:Europe/Paris
BEGIN:DAYLIGHT
TZOFFSETFROM:+0100
TZOFFSETTO:+0200
TZNAME:CEST
DTSTART:20260329T010000
END:DAYLIGHT
BEGIN:STANDARD
TZOFFSETFROM:+0200
TZOFFSETTO:+0100
TZNAME:CET
DTSTART:20261025T010000
END:STANDARD
END:VTIMEZONE
BEGIN:VEVENT
DTSTART;VALUE=DATE:20260427
DTEND;VALUE=DATE:20260501
DTSTAMP:20260420T130014
CREATED:20260115T081844Z
LAST-MODIFIED:20260127T094648Z
UID:48616-1777248000-1777593599@www.ayto-sotodelreal.es
SUMMARY:EXPO: ENTRE DOS AGUAS
DESCRIPTION:FECHA: L a V del 28 de abril al 8 de mayo; \nHORA: 09:00-14:00 h y 16:00-21:00 h; \nLUGAR: Sala de exposiciones del Centro Cultural; \nENTRADA: gratuita hasta completar aforo.  \nEntre Dos Aguas. Aves migratorias en paso por los embalses de la sierra de Madrid \nExposición que incluye 22 fotografías de 50×70 cm en las que las protagonistas son las aves migratorias en paso por Madrid. Se incluye una selección de aves migratorias que se pueden observar en los embalses de la sierra durante los pasos\, algunas de ellas poco frecuentes y ocasionales.\nEl objetivo de la exposición es dar a conocer la gran diversidad de aves que se pueden ver en nuestro territorio y poner en valor los embalses de la sierra como puntos de parada en las rutas migratorias. Todas las fotos han sido realizadas en los embalses de Pedrezuela y Santillana que constituyen dos de los enclaves más importantes para las aves migratorias en Madrid.
URL:https://www.ayto-sotodelreal.es/event/expo-entre-dos-aguas/
LOCATION:Centro Cultural Pedro de Lorenzo\, C/ Real\, nº6\, Soto del Real\, Madrid\, 28791\, España
CATEGORIES:Biblioteca,Cultura
ATTACH;FMTTYPE=image/jpeg:https://www.ayto-sotodelreal.es/wp-content/uploads/2026/01/WhatsApp-Image-2026-01-15-at-12.18.04.jpeg
END:VEVENT
END:VCALENDAR