BEGIN:VCALENDAR
VERSION:2.0
PRODID:-//Ayuntamiento - Soto del Real - ECPv5.4.0.1//NONSGML v1.0//EN
CALSCALE:GREGORIAN
METHOD:PUBLISH
X-WR-CALNAME:Ayuntamiento - Soto del Real
X-ORIGINAL-URL:https://www.ayto-sotodelreal.es
X-WR-CALDESC:Eventos para Ayuntamiento - Soto del Real
BEGIN:VTIMEZONE
TZID:Europe/Paris
BEGIN:DAYLIGHT
TZOFFSETFROM:+0100
TZOFFSETTO:+0200
TZNAME:CEST
DTSTART:20230326T010000
END:DAYLIGHT
BEGIN:STANDARD
TZOFFSETFROM:+0200
TZOFFSETTO:+0100
TZNAME:CET
DTSTART:20231029T010000
END:STANDARD
END:VTIMEZONE
BEGIN:VEVENT
DTSTART;TZID=Europe/Paris:20230824T221500
DTEND;TZID=Europe/Paris:20230827T221500
DTSTAMP:20260424T122150
CREATED:20230726T062220Z
LAST-MODIFIED:20230726T062220Z
UID:37445-1692915300-1693174500@www.ayto-sotodelreal.es
SUMMARY:CINE: BARBIE
DESCRIPTION:
URL:https://www.ayto-sotodelreal.es/event/cine-barbie/
LOCATION:CENTRO DE ARTE Y TURISMO (CAT)
CATEGORIES:Centro de Arte y Turismo,Cine,Cultura
ATTACH;FMTTYPE=image/jpeg:https://www.ayto-sotodelreal.es/wp-content/uploads/2023/07/Flyer-AGOSTO-SEP-Soto-2023-Corregido_page-0001.jpg
END:VEVENT
BEGIN:VEVENT
DTSTART;TZID=Europe/Paris:20230827T100000
DTEND;TZID=Europe/Paris:20230827T100000
DTSTAMP:20260424T122150
CREATED:20230824T080705Z
LAST-MODIFIED:20230824T081226Z
UID:37580-1693130400-1693130400@www.ayto-sotodelreal.es
SUMMARY:TALLER SOTO VILLA FLORIDA
DESCRIPTION:DÍA:  27 de agosto; \nHORA: 10.00 h. \nLUGAR:  Jardín Botánico (C/Almendro)
URL:https://www.ayto-sotodelreal.es/event/37580/
CATEGORIES:Medio Ambiente,Municipio
ATTACH;FMTTYPE=image/jpeg:https://www.ayto-sotodelreal.es/wp-content/uploads/2023/08/image0-3.jpeg
END:VEVENT
END:VCALENDAR