BEGIN:VCALENDAR
VERSION:2.0
PRODID:-//Ayuntamiento - Soto del Real - ECPv5.4.0.1//NONSGML v1.0//EN
CALSCALE:GREGORIAN
METHOD:PUBLISH
X-WR-CALNAME:Ayuntamiento - Soto del Real
X-ORIGINAL-URL:https://www.ayto-sotodelreal.es
X-WR-CALDESC:Eventos para Ayuntamiento - Soto del Real
BEGIN:VTIMEZONE
TZID:Europe/Paris
BEGIN:DAYLIGHT
TZOFFSETFROM:+0100
TZOFFSETTO:+0200
TZNAME:CEST
DTSTART:20230326T010000
END:DAYLIGHT
BEGIN:STANDARD
TZOFFSETFROM:+0200
TZOFFSETTO:+0100
TZNAME:CET
DTSTART:20231029T010000
END:STANDARD
END:VTIMEZONE
BEGIN:VEVENT
DTSTART;TZID=Europe/Paris:20230803T200000
DTEND;TZID=Europe/Paris:20230806T200000
DTSTAMP:20260420T111640
CREATED:20230418T090340Z
LAST-MODIFIED:20230418T090340Z
UID:36468-1691092800-1691352000@www.ayto-sotodelreal.es
SUMMARY:CONCURSO DE BANDAS
DESCRIPTION:DÍA: 3 al 6 de agosto; \nLUGAR: Calle de los Morales; \nHORA: a partir de las 20:00 h; \nPÚBLICO: juvenil; \n INSCRIPCIONES: juventud@ayto-sotodelreal.es \nEl concurso se desarrollará los días 3\, 4\, 5  y 6 de Agosto\, donde cada uno de los grupos participantes hará su actuación en el escenario que pondremos en la Calle de los Morales.Todos los grupos participantes deberán cumplimentar y entregar en plazo la inscripción en el periodo que indicaremos próximamente y acorde con las bases del concurso.
URL:https://www.ayto-sotodelreal.es/event/concurso-de-bandas-10/
LOCATION:Soto del Real\, Soto del Real 
CATEGORIES:Fiestas,Juventud,Música
ATTACH;FMTTYPE=image/png:https://www.ayto-sotodelreal.es/wp-content/uploads/2023/04/concurso-bandas.png
END:VEVENT
BEGIN:VEVENT
DTSTART;VALUE=DATE:20230806
DTEND;VALUE=DATE:20230807
DTSTAMP:20260420T111640
CREATED:20230510T065428Z
LAST-MODIFIED:20230802T072536Z
UID:36707-1691280000-1691366399@www.ayto-sotodelreal.es
SUMMARY:FIESTAS PATRONALES 2023
DESCRIPTION:Charanga “Los Fugitivos” \n11:00 h. Comienzo en el Zoco \n  \nJuegos acuáticos \n11:30 – 14:30 h.  Piscina de Verano \n  \nCucaña amenizada por la charanga \n13:00 h.  Calle de Los Morales \n  \nJuegos acuáticos \n17:00 – 21:00 h.  Piscina de Verano \n  \nConcurso de Bandas \n22:00 -00:30 h. Calle los Morales \n  \nConcierto “La Edad De Oro del Pop Español” \nPlaza de la Villa \n  \nDJ Rubén Cotton \nPlaza de la Villa
URL:https://www.ayto-sotodelreal.es/event/fiestas-patronales-2023-3/
CATEGORIES:Fiestas,Municipio,Música,Turismo
ATTACH;FMTTYPE=image/png:https://www.ayto-sotodelreal.es/wp-content/uploads/2023/05/6-agosto.png
END:VEVENT
END:VCALENDAR