BEGIN:VCALENDAR
VERSION:2.0
PRODID:-//Ayuntamiento - Soto del Real - ECPv5.4.0.1//NONSGML v1.0//EN
CALSCALE:GREGORIAN
METHOD:PUBLISH
X-WR-CALNAME:Ayuntamiento - Soto del Real
X-ORIGINAL-URL:https://www.ayto-sotodelreal.es
X-WR-CALDESC:Eventos para Ayuntamiento - Soto del Real
BEGIN:VTIMEZONE
TZID:Europe/Paris
BEGIN:DAYLIGHT
TZOFFSETFROM:+0100
TZOFFSETTO:+0200
TZNAME:CEST
DTSTART:20230326T010000
END:DAYLIGHT
BEGIN:STANDARD
TZOFFSETFROM:+0200
TZOFFSETTO:+0100
TZNAME:CET
DTSTART:20231029T010000
END:STANDARD
END:VTIMEZONE
BEGIN:VEVENT
DTSTART;TZID=Europe/Paris:20230708T200000
DTEND;TZID=Europe/Paris:20230708T200000
DTSTAMP:20260420T132449
CREATED:20230412T094723Z
LAST-MODIFIED:20230701T093335Z
UID:36116-1688846400-1688846400@www.ayto-sotodelreal.es
SUMMARY:PASEOS CON GLORIA
DESCRIPTION:DÍAS: 8 de julio; \nHORARIO: 20:00 h. \nLUGAR: Oficina de Turismo\, Plaza de la Villa; \nDESTINATARIOS: todos los públicos; \nPRECIO: gratuito hasta completar aforo; \nINSCRIPCIONES: obligatorias en la oficina de turismo (sábados y domingos 10:00 a 14:30 h) o en el mail turismo@ayto-sotodelreal.es; \nVisitas teatralizadas de la mano de Balbina Jiménez (La Letrera) en las que conoceremos anécdotas y vivencias de la que fuera nuestra ilustre vecina y gran poeta Gloria Fuertes. El mundo de la poesía de Gloria tomará las calles del municipio una vez más por cuarto año consecutivo. \n  \n  \n 
URL:https://www.ayto-sotodelreal.es/event/paseoscongloria/
LOCATION:Centro Cultural Pedro de Lorenzo\, C/ Real\, nº6\, Soto del Real\, Madrid\, 28791\, España
CATEGORIES:Cultura,Turismo
ATTACH;FMTTYPE=image/jpeg:https://www.ayto-sotodelreal.es/wp-content/uploads/2023/04/IMG_20220716_211259-scaled.jpg
END:VEVENT
BEGIN:VEVENT
DTSTART;TZID=Europe/Paris:20230708T220000
DTEND;TZID=Europe/Paris:20230708T220000
DTSTAMP:20260420T132449
CREATED:20230417T122821Z
LAST-MODIFIED:20230701T082945Z
UID:36420-1688853600-1688853600@www.ayto-sotodelreal.es
SUMMARY:NOCHES DE BAILE
DESCRIPTION:DÍA: 8 de julio; \nHORA: 22:00 h; \nLUGAR: Plaza de la Villa; \nPÚBLICO: Todos los públicos; \nENTRADA: Entrada libre hasta completar aforo.  \nUn año más la Asociación C.y D. BustarviejoBaila nos enseñará las diferentes modalidades de bailes de salón: pasodoble\, tango\, rumba\,… una noche divertida que no debes perderte.
URL:https://www.ayto-sotodelreal.es/event/noches-de-baile-22/
LOCATION:Plaza de la Villa\, Plaza de la Villa\, Soto del Real \, madrid \, 28791
CATEGORIES:Centro de Arte y Turismo,Cultura,Música,Turismo
ATTACH;FMTTYPE=image/jpeg:https://www.ayto-sotodelreal.es/wp-content/uploads/2023/04/Cartel_Baile_Verano_2023_page-0001-scaled.jpg
END:VEVENT
BEGIN:VEVENT
DTSTART;TZID=Europe/Paris:20230708T221500
DTEND;TZID=Europe/Paris:20230708T221500
DTSTAMP:20260420T132449
CREATED:20230626T074137Z
LAST-MODIFIED:20230626T074137Z
UID:37161-1688854500-1688854500@www.ayto-sotodelreal.es
SUMMARY:CINE: SPIDERMAN. CRUZANDO EL MULTIVERSO
DESCRIPTION:
URL:https://www.ayto-sotodelreal.es/event/cine-spiderman-cruzando-el-multiverso-2/
LOCATION:CENTRO DE ARTE Y TURISMO (CAT)
CATEGORIES:Centro de Arte y Turismo,Cine
ATTACH;FMTTYPE=image/jpeg:https://www.ayto-sotodelreal.es/wp-content/uploads/2023/06/FLYERS-SOTO-DEL-REAL-2023-Lailoken_page-0001.jpg
END:VEVENT
END:VCALENDAR