BEGIN:VCALENDAR
VERSION:2.0
PRODID:-//Ayuntamiento - Soto del Real - ECPv5.4.0.1//NONSGML v1.0//EN
CALSCALE:GREGORIAN
METHOD:PUBLISH
X-WR-CALNAME:Ayuntamiento - Soto del Real
X-ORIGINAL-URL:https://www.ayto-sotodelreal.es
X-WR-CALDESC:Eventos para Ayuntamiento - Soto del Real
BEGIN:VTIMEZONE
TZID:Europe/Paris
BEGIN:DAYLIGHT
TZOFFSETFROM:+0100
TZOFFSETTO:+0200
TZNAME:CEST
DTSTART:20230326T010000
END:DAYLIGHT
BEGIN:STANDARD
TZOFFSETFROM:+0200
TZOFFSETTO:+0100
TZNAME:CET
DTSTART:20231029T010000
END:STANDARD
END:VTIMEZONE
BEGIN:VEVENT
DTSTART;VALUE=DATE:20230620
DTEND;VALUE=DATE:20230625
DTSTAMP:20260420T165812
CREATED:20230422T104725Z
LAST-MODIFIED:20230614T062230Z
UID:36515-1687219200-1687651199@www.ayto-sotodelreal.es
SUMMARY:FESTIVAL URBANO
DESCRIPTION:LUGAR: Soto del Real; \nHORA: por determinar; \nDÍAS: 20 al 24 de junio; \nFestival de arte y deporte urbano que se desarrollará en el Municipio y en el que están invitados como colaboradores grandes artistas. \nCONFERENCIA: 24 junio. Todo empezó en el 84. Por Pastron#7. En el C.A.T.  \nDEMOSTRACIONES DEPORTES URBANOS: 24 junio a las 18:30 h en el Anillo Verde.  \nAcércate a visitarnos al anillo verde y a disfrutar de nuestras exhibiciones de deportes urbanos. Además\, pordrás participar apuntándote en los siguientes links:\n \n– Enlace SKATE (dos categorías) https://forms.gle/uZBhD3gp2YRPwAv88 (tengo dudas con el jurado)\n– Enlace VOLEY 4×4 https://forms.gle/fk5jrDJgbbuxdRza9\n– Enlace CALISTENIA https://forms.gle/gkZzKHGFzX33TCLdA\n \nLos horarios son los siguinetes:\n– Exhibición y competición calistenia: 18:30\n– Torneo voley playa 4×4: 19:00\n– Competición SKATE: 19:30\nToda la información en : www.valor-art.es
URL:https://www.ayto-sotodelreal.es/event/festival-urbano/
CATEGORIES:Juventud
ATTACH;FMTTYPE=image/jpeg:https://www.ayto-sotodelreal.es/wp-content/uploads/2023/04/festival_URBANO_Soto.jpg
END:VEVENT
BEGIN:VEVENT
DTSTART;VALUE=DATE:20230623
DTEND;VALUE=DATE:20230624
DTSTAMP:20260420T165812
CREATED:20230412T075836Z
LAST-MODIFIED:20230412T075836Z
UID:36082-1687478400-1687564799@www.ayto-sotodelreal.es
SUMMARY:CLAUSURA EXPOSICIÓN: COLL\, EL GENIO DEL TBO
DESCRIPTION:DÍAS: 2 a 23 de junio de 2023; \nHORARIO: el e apertura del centro cultural \nLUGAR: Sala de exposiciones Centro Cultural.  \nColl fue uno de los pilares de TBO\, la revista que dio nombre a todos los tebeos. Sus mejores historietas\, que no precisaban de palabras\, son una mezcla de talento narrativo\, inteligencia formal y de un humor surreal\, fieramente humano.
URL:https://www.ayto-sotodelreal.es/event/clausura-exposicion-coll-el-genio-del-tbo/
LOCATION:Centro Cultural Pedro de Lorenzo\, C/ Real\, nº6\, Soto del Real\, Madrid\, 28791\, España
CATEGORIES:Cultura
END:VEVENT
BEGIN:VEVENT
DTSTART;TZID=Europe/Paris:20230623T110000
DTEND;TZID=Europe/Paris:20230623T130000
DTSTAMP:20260420T165812
CREATED:20230412T074816Z
LAST-MODIFIED:20230506T090358Z
UID:36079-1687518000-1687525200@www.ayto-sotodelreal.es
SUMMARY:VISITA GUIADA AL BARRIO DE SALAMANCA
DESCRIPTION:DÍA: 23 de junio de 2023; \nHORARIO: 11:00 h; \nLUGAR ENCUENTRO: bandera de España de la Plaza de Colón;   \nINSCRIPCIONES: 5\,50€ en el Centro Cultural (30 plazas). \nPÚBLICO: adultos. \nEl barrio de Salamanca es sin duda el barrio más señorial de Madrid en el que se asienta la aristocracia madrileña tras su construcción en la segunda mitad del S. XIX. Cuenta con enclaves tan destacados como el ABC de Serrano\, el Museo Arqueológico Nacional\, La Biblioteca Nacional\, La Plaza de Colón\, La Basílica de La Concepción\, etc…
URL:https://www.ayto-sotodelreal.es/event/visita-guiada-al-barrio-de-salamanca/
LOCATION:CENTRO DE ARTE Y TURISMO (CAT)
CATEGORIES:Cultura,Turismo
ATTACH;FMTTYPE=image/jpeg:https://www.ayto-sotodelreal.es/wp-content/uploads/2023/04/VISITAS-CULTURALES_page-0001-scaled.jpg
END:VEVENT
END:VCALENDAR