BEGIN:VCALENDAR
VERSION:2.0
PRODID:-//Ayuntamiento - Soto del Real - ECPv5.4.0.1//NONSGML v1.0//EN
CALSCALE:GREGORIAN
METHOD:PUBLISH
X-WR-CALNAME:Ayuntamiento - Soto del Real
X-ORIGINAL-URL:https://www.ayto-sotodelreal.es
X-WR-CALDESC:Eventos para Ayuntamiento - Soto del Real
BEGIN:VTIMEZONE
TZID:Europe/Paris
BEGIN:DAYLIGHT
TZOFFSETFROM:+0100
TZOFFSETTO:+0200
TZNAME:CEST
DTSTART:20230326T010000
END:DAYLIGHT
BEGIN:STANDARD
TZOFFSETFROM:+0200
TZOFFSETTO:+0100
TZNAME:CET
DTSTART:20231029T010000
END:STANDARD
END:VTIMEZONE
BEGIN:VEVENT
DTSTART;TZID=Europe/Paris:20230618T100000
DTEND;TZID=Europe/Paris:20230618T150000
DTSTAMP:20260420T151614
CREATED:20230329T101903Z
LAST-MODIFIED:20230329T101903Z
UID:35882-1687082400-1687100400@www.ayto-sotodelreal.es
SUMMARY:MERCADO ARTESANO
DESCRIPTION:
URL:https://www.ayto-sotodelreal.es/event/mercado-artesano-26/
LOCATION:Plaza de la Villa\, Plaza de la Villa\, Soto del Real \, madrid \, 28791
CATEGORIES:Turismo
ATTACH;FMTTYPE=image/png:https://www.ayto-sotodelreal.es/wp-content/uploads/2023/03/mercado_junio.png
END:VEVENT
BEGIN:VEVENT
DTSTART;TZID=Europe/Paris:20230618T110000
DTEND;TZID=Europe/Paris:20230618T130000
DTSTAMP:20260420T151614
CREATED:20230416T100137Z
LAST-MODIFIED:20230527T090755Z
UID:36345-1687086000-1687093200@www.ayto-sotodelreal.es
SUMMARY:FESTIVAL ESCUELA DE MÚSICA DE SOTO DEL REAL
DESCRIPTION:DÍA: 18 de junio; \nHORA: 11:00 a 13:00 h; \nLUGAR: C.A.T; \nPÚBLICO: todos los públicos; \nENTRADA: libre hasta completar aforo; \nExhibición fin de curso de los alumnos y alumnas junto con los profesores y los combos de la Escuela de Música de Soto del Real. \n\nAlumnos de música y movimiento;\nAlumnos de flauta travesera: “Adagio” de la sonata IV de Bach y “Over the Rainbow”;\nAlumnos de piano;\nAlumno de percusión;\nGrupo de percusión;\nCoro;\nAgrupaciones de alumnos de guitarra\, batería y canto.
URL:https://www.ayto-sotodelreal.es/event/festival-escuela-de-musica-de-soto-del-real/
LOCATION:CENTRO DE ARTE Y TURISMO (CAT)
CATEGORIES:Centro de Arte y Turismo,Cultura,Música
ATTACH;FMTTYPE=image/jpeg:https://www.ayto-sotodelreal.es/wp-content/uploads/2023/04/IMAGEN-ESCUELAS-DE-MUSICA.jpeg
END:VEVENT
BEGIN:VEVENT
DTSTART;TZID=Europe/Paris:20230618T120000
DTEND;TZID=Europe/Paris:20230618T120000
DTSTAMP:20260420T151614
CREATED:20230418T073326Z
LAST-MODIFIED:20230509T065258Z
UID:36441-1687089600-1687089600@www.ayto-sotodelreal.es
SUMMARY:FIESTA CIERRE CASA DE LA INFANCIA
DESCRIPTION:DÍA: 18 de junio; \nHORA: 12:00 h; \nLUGAR: Casa de la Infancia; \nPÚBLICO: De 10 a 12 años (nacidos 2013 a 2011); \nENTRADA: gratuita. \nINSCRIPCIONES: No hace falta inscripción; \nLa Casa de la Infancia cierra la temporada con una fiesta dirigida a todos los niños y niñas de 4º\,5º y 6º primaria.
URL:https://www.ayto-sotodelreal.es/event/fiesta-cierre-casa-de-la-infancia/
LOCATION:Soto del Real\, Soto del Real 
CATEGORIES:Infantil
END:VEVENT
END:VCALENDAR