BEGIN:VCALENDAR
VERSION:2.0
PRODID:-//Ayuntamiento - Soto del Real - ECPv5.4.0.1//NONSGML v1.0//EN
CALSCALE:GREGORIAN
METHOD:PUBLISH
X-WR-CALNAME:Ayuntamiento - Soto del Real
X-ORIGINAL-URL:https://www.ayto-sotodelreal.es
X-WR-CALDESC:Eventos para Ayuntamiento - Soto del Real
BEGIN:VTIMEZONE
TZID:Europe/Paris
BEGIN:DAYLIGHT
TZOFFSETFROM:+0100
TZOFFSETTO:+0200
TZNAME:CEST
DTSTART:20230326T010000
END:DAYLIGHT
BEGIN:STANDARD
TZOFFSETFROM:+0200
TZOFFSETTO:+0100
TZNAME:CET
DTSTART:20231029T010000
END:STANDARD
END:VTIMEZONE
BEGIN:VEVENT
DTSTART;TZID=Europe/Paris:20230617T100000
DTEND;TZID=Europe/Paris:20230617T113000
DTSTAMP:20260420T170658
CREATED:20230412T092431Z
LAST-MODIFIED:20230612T122426Z
UID:36105-1686996000-1687001400@www.ayto-sotodelreal.es
SUMMARY:MASTER CLASS POWER PUMP (60’) + HIPOPRESIVOS (30’)
DESCRIPTION:DÍAS: 17 junio; \nHORARIO: 10:00 a 11:30 h. \nLUGAR: Plaza de la Villa.  \nDESTINATARIOS: Deportistas mayores de 16 años. Se requiere condición física media; \nINSCRIPCIONES: Inscripciones hasta el 11 de Junio en la Piscina Cubierta o a través del correo infopiscina@ayto-sotodelreal.es  Plazas limitadas.  \nMÁS INFO:@: infopiscina@ayto-sotodelreal.es  Telf: 91 847 74 48 Web: www.ayto-sotodelreal.es/ \n  \nDoble clase dirigida por monitora que servirá como despedida del curso: \n10 a11h Power Pump: entrenamiento para fortalecer y definir la musculatura de todo el cuerpo a través de la combinación de técnicas de musculación y trabajo cardiovascular al ritmo de la música. \nIntensidad MEDIA \n11 a 11:30h Gimnasia Hipopresiva\, programa de entrenamiento sobre la musculatura abdominal\, mejorando la postural corporal\, el tono del suelo pélvico y la faja abdominal\, y reduciendo el contorno de la cintura. \nIntensidad MEDIA
URL:https://www.ayto-sotodelreal.es/event/master-class-power-pump-60-hipopresivos-30/
LOCATION:Plaza de la Villa\, Plaza de la Villa\, Soto del Real \, madrid \, 28791
CATEGORIES:Deportes
ATTACH;FMTTYPE=image/jpeg:https://www.ayto-sotodelreal.es/wp-content/uploads/2023/04/Master-Class-Power-Pump.v2.jpg
END:VEVENT
BEGIN:VEVENT
DTSTART;TZID=Europe/Paris:20230617T100000
DTEND;TZID=Europe/Paris:20230617T143000
DTSTAMP:20260420T170658
CREATED:20230503T083427Z
LAST-MODIFIED:20230503T083428Z
UID:36627-1686996000-1687012200@www.ayto-sotodelreal.es
SUMMARY:LA DESPENSA DE MADRID
DESCRIPTION:
URL:https://www.ayto-sotodelreal.es/event/la-despensa-de-madrid/
LOCATION:Parque del Río\, Av. de España \, Soto del Real \, Madrid\, 28791\, España
CATEGORIES:Turismo
ATTACH;FMTTYPE=image/jpeg:https://www.ayto-sotodelreal.es/wp-content/uploads/2023/05/Soto-del-Real-cartel_page-0001-scaled.jpg
END:VEVENT
BEGIN:VEVENT
DTSTART;TZID=Europe/Paris:20230617T103000
DTEND;TZID=Europe/Paris:20230617T133000
DTSTAMP:20260420T170658
CREATED:20230117T135846Z
LAST-MODIFIED:20230509T091028Z
UID:34839-1686997800-1687008600@www.ayto-sotodelreal.es
SUMMARY:TALLER DE NATURALEZA. SENDA INTERPRETATIVA EN EL ENTORNO DE SOTO.
DESCRIPTION:LUGAR: Lugar de encuentro por determinar. \nDÍA: Sábado 3 de junio.  \nHORA: Horario de 10:30 a 13:30h. \nINSCRIPCIONES: 5€ por taller o 20€/trimestre. En el Centro Cultural / 918480114 / centrocultural@ayto-sotodelreal.es  \nPÚBLICO: De 6 a 12 años; \nActividad en familia para Peques y Grandes. Vamos a compartir momentos y conocimientos invirtiendo los papeles\, es decir\, hoy los peques serán los guías responsables y los mayores solo tendrán que disfrutar y aprender de los pequeños Guardianes de la Naturaleza. \n.
URL:https://www.ayto-sotodelreal.es/event/taller-de-naturaleza-senda-interpretativa-en-el-entorno-de-soto/
LOCATION:madrid 
CATEGORIES:Cultura,Infantil,Medio Ambiente
ATTACH;FMTTYPE=image/jpeg:https://www.ayto-sotodelreal.es/wp-content/uploads/2023/01/06.17-Senda-entorno-Soto.jpg
END:VEVENT
BEGIN:VEVENT
DTSTART;TZID=Europe/Paris:20230617T110000
DTEND;TZID=Europe/Paris:20230617T110000
DTSTAMP:20260420T170658
CREATED:20230530T070853Z
LAST-MODIFIED:20230530T070853Z
UID:36827-1686999600-1686999600@www.ayto-sotodelreal.es
SUMMARY:TORNEO FIN DE TEMPORADA RECREATIVO SOTO
DESCRIPTION:DÍA: 17 de junio; \nHORA: por determinar; \nLUGAR: campo de futbol municipal; \n 
URL:https://www.ayto-sotodelreal.es/event/torneo-fin-de-temporada-recreativo-soto/
LOCATION:Polideportivo\, Calle Egidillo\, Soto del Real\, Madrid\, 28791\, España
CATEGORIES:Deportes
END:VEVENT
BEGIN:VEVENT
DTSTART;TZID=Europe/Paris:20230617T120000
DTEND;TZID=Europe/Paris:20230617T120000
DTSTAMP:20260420T170658
CREATED:20230612T061700Z
LAST-MODIFIED:20230614T111917Z
UID:36939-1687003200-1687003200@www.ayto-sotodelreal.es
SUMMARY:VISITA GUIADA EXPOSICIÓN: COLL\, EL GIGANTE DEL TBO
DESCRIPTION:DÍA: 17 de junio de 2023; \nHORARIO: 12:00 H;  \nLUGAR: Sala de exposiciones Centro Cultural; \nPÚBLICO: familiar; \nINSCRIPCIONES: gratuitas hasta completar aforo y obligatorias en el Centro Cultural / 91 848 01 14 / turismo@ayto-sotodelreal.es  \nColl fue uno de los pilares de TBO\, la revista que dio nombre a todos los tebeos. Sus mejores historietas\, que no precisaban de palabras\, son una mezcla de talento narrativo\, inteligencia formal y de un humor surreal\, fieramente humano.
URL:https://www.ayto-sotodelreal.es/event/visita-guiada-exposicion-coll-el-gigante-del-tbo/
LOCATION:Centro Cultural Pedro de Lorenzo\, C/ Real\, nº6\, Soto del Real\, Madrid\, 28791\, España
CATEGORIES:Cultura
ATTACH;FMTTYPE=image/jpeg:https://www.ayto-sotodelreal.es/wp-content/uploads/2023/06/Cartel-Visita-guiada-17-junio-Coll-2-1.jpg
END:VEVENT
BEGIN:VEVENT
DTSTART;TZID=Europe/Paris:20230617T190000
DTEND;TZID=Europe/Paris:20230617T190000
DTSTAMP:20260420T170658
CREATED:20230416T095940Z
LAST-MODIFIED:20230527T090855Z
UID:36343-1687028400-1687028400@www.ayto-sotodelreal.es
SUMMARY:FESTIVAL ACADEMIA DE DANZA REBECA DOMINGUEZ
DESCRIPTION:DÍA: 17 de junio; \nHORA: 19:00 h; \nLUGAR: C.A.T; \nPÚBLICO: todos los públicos; \nENTRADA: en Academia de Baile Rebeca Domínguez; \nExhibición fin de curso de alumnas y profesoras de las distintas modalidades de danza impartidas en la Academia \n 
URL:https://www.ayto-sotodelreal.es/event/festival-academia-de-danza-rebeca-dominguez/
LOCATION:CENTRO DE ARTE Y TURISMO (CAT)
CATEGORIES:Centro de Arte y Turismo,Cultura,Música
ATTACH;FMTTYPE=image/jpeg:https://www.ayto-sotodelreal.es/wp-content/uploads/2023/04/REBECA-DOMINGUEZ.jpeg
END:VEVENT
BEGIN:VEVENT
DTSTART;TZID=Europe/Paris:20230617T190000
DTEND;TZID=Europe/Paris:20230617T190000
DTSTAMP:20260420T170658
CREATED:20230418T072917Z
LAST-MODIFIED:20230504T093223Z
UID:36439-1687028400-1687028400@www.ayto-sotodelreal.es
SUMMARY:ENCUENTRO JUVENIL EN LA RODELA
DESCRIPTION:DÍA: 17 de junio; \nHORA: Desde el sábado\, 17 de junio\, a las 16.30 h. hasta el domingo\, 18 de junio\, a las 16.30 h. \nLUGAR: Refugio La Rodela; \nPÚBLICO: jóvenes de Soto del Real y Guadalix de la Sierra; \nINSCRIPCIONES: obligatorias juventud@ayto-sotodelreal.es  \nEl objetivo será realizar una labor de integración y socialización a través de un encuentro juvenil favorecedora para con los jóvenes Soto del Real y Guadalix de la Sierra\, promoviendo los valores\, la amistad y la sana convivencia. Se realizarán dinámicas y actividades juveniles dinamizadas por el equipo de monitores de la Casa de la Juventud de Guadalix de la Sierra.
URL:https://www.ayto-sotodelreal.es/event/encuentro-juvenil-en-la-rodela/
LOCATION:Soto del Real\, Soto del Real 
CATEGORIES:Juventud
ATTACH;FMTTYPE=image/png:https://www.ayto-sotodelreal.es/wp-content/uploads/2023/04/Encuentro-Juvenil-Sierra-Noroeste-1.png
END:VEVENT
END:VCALENDAR