BEGIN:VCALENDAR
VERSION:2.0
PRODID:-//Ayuntamiento - Soto del Real - ECPv5.4.0.1//NONSGML v1.0//EN
CALSCALE:GREGORIAN
METHOD:PUBLISH
X-WR-CALNAME:Ayuntamiento - Soto del Real
X-ORIGINAL-URL:https://www.ayto-sotodelreal.es
X-WR-CALDESC:Eventos para Ayuntamiento - Soto del Real
BEGIN:VTIMEZONE
TZID:Europe/Paris
BEGIN:DAYLIGHT
TZOFFSETFROM:+0100
TZOFFSETTO:+0200
TZNAME:CEST
DTSTART:20230326T010000
END:DAYLIGHT
BEGIN:STANDARD
TZOFFSETFROM:+0200
TZOFFSETTO:+0100
TZNAME:CET
DTSTART:20231029T010000
END:STANDARD
END:VTIMEZONE
BEGIN:VEVENT
DTSTART;VALUE=DATE:20230610
DTEND;VALUE=DATE:20230611
DTSTAMP:20260420T165753
CREATED:20230412T073902Z
LAST-MODIFIED:20230603T084834Z
UID:36073-1686355200-1686441599@www.ayto-sotodelreal.es
SUMMARY:FERIA DE LA CIENCIA Y LA TECNOLOGÍA
DESCRIPTION:DÍA: 10 de junio de 2023; \nHORARIO: por confirmar; \nLUGAR: C.A.T.  \nINSCRIPCIONES: Recogida de tarjetas de participante en Centro Cultural\, a partir del 6 de junio. \nLos niños y niñas participantes en Los talleres de ciencia y robótica realizarán una demostración de lo que han aprendido a lo largo del curso. \nAdemás podremos disfrutar de diversas actividades y talleres:  \n\nHORARIO DE MAÑANA\n \nLas actividades estarán dirigidas por profesionales.\n \nTaller 1 – Taller de cromatografía. Horas: 11:00/11:30/12:00; \nTaller 2 – Obtener el ADN de una manzana – Horas: 12:30/13:00/13:30;\nTaller 3 – Inflar un globo con CO2. Horas: 11:00/11:30/12:00;\nTaller 4 – El agua no se cae boca abajo. Horas: 12:30/13:00/13:30;\nTaller 5 – PLANETARIO. Pases: 10:30/11:00/11:30/12:00/ 12:30/13:00/13:30/14:00. HORARIO DE TARDE  \nLas actividades estarán dirigidas y presentadas por el alumnado de los talleres de Ciencias y Tecnología. \nÁREA TECNOLOGÍA\nPUESTO 1 – TALLER LEGO – “Los tronkitos”. – Horas: 17:00/17:30/18:00/18:30/19:00\nPUESTO 2 – ROBÓTICA GENERAL – Horas: 17:00/17:30/18:00/18:30/19:00 \nÁREA CIENCIAS\nPUESTO 3 – ÓPTICA 1 – Horas: 17:00/17:30/18:00/18:30/19:00\nPUESTO 4 – ÓPTICA 2 – Horas: 17:00/17:30/18:00/18:30/19:00\nPUESTO 5 – PILA DE LIMÓN – Horas: 17:00/17:30/18:00/18:30/19:00\nPUESTO 6 – EVAPOTRANSPIRACIÓN – Horas: 17:00/17:30/18:00/18:30/19:00\nPUESTO 7 – QUÍMICA – Horas: 17:00/17:30/18:00/18:30/19:00\nPUESTO 8 – HIDRÓGENO- Horas: 17:00/17:30/18:00/18:30/19:00\nPUESTO 9 – COCINA MOLECULAR- Horas: 17:00/17:30/18:00/18:30/19:00\nPUESTO 10 – TELESCOPIO SOLAR – Horas: 17:00/17:30/18:00/18:30/19:00 (dirigido por un profesional) \nA las 19:30 se proyectará en la Sala del CAT un resumen de las actuaciones realizadas por el alumnado de las Áreas de Ciencias y Tecnología del Ayuntamiento de Soto del Real durante el curso. \n* Los tickets para el Planetario se podrán recoger desde el lunes día 6 en el Centro Cultural. Para el resto de actividades se recogerán en el CAT el mismo día de la Feria. \n\n\n 
URL:https://www.ayto-sotodelreal.es/event/feria-de-la-ciencia-y-la-tecnologia/
LOCATION:CENTRO DE ARTE Y TURISMO (CAT)
CATEGORIES:Centro de Arte y Turismo,Cultura,Educación
ATTACH;FMTTYPE=image/png:https://www.ayto-sotodelreal.es/wp-content/uploads/2023/04/II-FERIA-CIENCIA-Y-TECNOLOGIA.png
END:VEVENT
BEGIN:VEVENT
DTSTART;TZID=Europe/Paris:20230610T100000
DTEND;TZID=Europe/Paris:20230610T100000
DTSTAMP:20260420T165753
CREATED:20230422T112440Z
LAST-MODIFIED:20230424T102024Z
UID:36526-1686391200-1686391200@www.ayto-sotodelreal.es
SUMMARY:TALLER DE JUEGO EN FAMILIA: DESCUBRIR MI SOMBRA
DESCRIPTION:LUGAR: Salones Prado Real; \nDÍA: 10 de junio.  \nHORA: 10:00h. \nINSCRIPCIONES: En el Centro Cultural / 918480114 / centrocultural@ayto-sotodelreal.es  \nPÚBLICO: de 9 meses a 2 año; \n 
URL:https://www.ayto-sotodelreal.es/event/taller-de-juego-en-familia-descubrir-mi-sombra/
LOCATION:Parque del Río\, Av. de España \, Soto del Real \, Madrid\, 28791\, España
CATEGORIES:Cultura,Infantil,Medio Ambiente
ATTACH;FMTTYPE=image/jpeg:https://www.ayto-sotodelreal.es/wp-content/uploads/2023/04/CARTEL-DESCUBRIR-MI-SOMBRA.jpg
END:VEVENT
BEGIN:VEVENT
DTSTART;TZID=Europe/Paris:20230610T110000
DTEND;TZID=Europe/Paris:20230610T110000
DTSTAMP:20260420T165753
CREATED:20230606T082628Z
LAST-MODIFIED:20230606T082628Z
UID:36895-1686394800-1686394800@www.ayto-sotodelreal.es
SUMMARY:MERCADILLO SEGUNDA MANO
DESCRIPTION:
URL:https://www.ayto-sotodelreal.es/event/mercadillo-segunda-mano-2/
LOCATION:Plaza de la Villa\, Plaza de la Villa\, Soto del Real \, madrid \, 28791
CATEGORIES:Medio Ambiente,Municipio
ATTACH;FMTTYPE=image/jpeg:https://www.ayto-sotodelreal.es/wp-content/uploads/2023/06/IMG-20230516-WA0052.jpg
END:VEVENT
BEGIN:VEVENT
DTSTART;TZID=Europe/Paris:20230610T120000
DTEND;TZID=Europe/Paris:20230610T120000
DTSTAMP:20260420T165753
CREATED:20230422T112300Z
LAST-MODIFIED:20230424T102151Z
UID:36524-1686398400-1686398400@www.ayto-sotodelreal.es
SUMMARY:TALLER DE JUEGO EN FAMILIA: LAS SOMBRAS DEL PRADO
DESCRIPTION:LUGAR: Parque del Río; \nDÍA: 10 de junio.  \nHORA: 12:00h. \nINSCRIPCIONES: En el Centro Cultural / 918480114 / centrocultural@ayto-sotodelreal.es  \nPÚBLICO: de 3 a 100 años; \n 
URL:https://www.ayto-sotodelreal.es/event/taller-de-juego-en-familia-las-sombras-del-prado/
LOCATION:Parque del Río\, Av. de España \, Soto del Real \, Madrid\, 28791\, España
CATEGORIES:Cultura,Infantil,Medio Ambiente
ATTACH;FMTTYPE=image/jpeg:https://www.ayto-sotodelreal.es/wp-content/uploads/2023/04/CARTEL-LAS-SOMBRAS-DEL-PRADO.jpg
END:VEVENT
BEGIN:VEVENT
DTSTART;TZID=Europe/Paris:20230610T170000
DTEND;TZID=Europe/Paris:20230610T203000
DTSTAMP:20260420T165753
CREATED:20230412T092040Z
LAST-MODIFIED:20230517T062757Z
UID:36103-1686416400-1686429000@www.ayto-sotodelreal.es
SUMMARY:CAMPEONATO ESCUELA MUNICIPAL DE NATACIÓN
DESCRIPTION:DÍAS: 10 junio; \nHORARIO: 17:00 a 20:30 h. \nLUGAR: Piscina cubierta Prado Real.  \nDESTINATARIOS: Alumnos de la Escuela Municipal de Natación de entre 4 y 65 años; \nINSCRIPCIONES: Inscripciones hasta el 31 de mayo en la Piscina Cubierta o a través del correo infopiscina@ayto-sotodelreal.es \nMÁS INFO:@: infopiscina@ayto-sotodelreal.es  Telf: 91 847 74 48 Web: www.ayto-sotodelreal.es/ \nCompetición de la Escuela Municipal de Natación en categorías desde Benjamín a Sénior. Se realizará por turnos según categorías y edades\, permitiendo la entrada de dos adultos acompañantes por cada competidor.
URL:https://www.ayto-sotodelreal.es/event/campeonato-escuela-municipal-de-natacion-4/
LOCATION:Complejo deportivo Prado Real\, C/ La Orden\, Soto del Real \, madrid \, 28791
CATEGORIES:Deportes
ATTACH;FMTTYPE=image/jpeg:https://www.ayto-sotodelreal.es/wp-content/uploads/2023/04/CARTEL_Cto.-Escuela-Municipal-Nat..jpg
END:VEVENT
BEGIN:VEVENT
DTSTART;TZID=Europe/Paris:20230610T180000
DTEND;TZID=Europe/Paris:20230610T180000
DTSTAMP:20260420T165753
CREATED:20230416T112225Z
LAST-MODIFIED:20230416T112225Z
UID:36384-1686420000-1686420000@www.ayto-sotodelreal.es
SUMMARY:TORNEO FUTBOL 5
DESCRIPTION:DÍA: 10 de junio; \nHORA: 18:00 h; \nLUGAR: CEIP Virgen del Rosario; \nPÚBLICO: Jóvenes de 11 a 17 años; \nINSCRIPCIONES: juventud@ayto-sotodelreal.es.  \nCada equipo debe contar con un mínimo de 3 jugadores en el campo y se disputarán dos tiempos de 20 minutos. Otras de las reglas básicas del fútbol 5 son: Los saques laterales se hacen con el pie y balón detenido. El arquero no puede pasar el balón con la mano más allá de la mitad de la cancha. \n 
URL:https://www.ayto-sotodelreal.es/event/torneo-futbol-5/
LOCATION:Casa de la Juventud\, C/ Concejo\, 6\, Soto del Real \, Madrid\, 28791
CATEGORIES:Deportes,Juventud
ATTACH;FMTTYPE=image/png:https://www.ayto-sotodelreal.es/wp-content/uploads/2023/04/torneo-futbol-junio-1.png
END:VEVENT
END:VCALENDAR