BEGIN:VCALENDAR
VERSION:2.0
PRODID:-//Ayuntamiento - Soto del Real - ECPv5.4.0.1//NONSGML v1.0//EN
CALSCALE:GREGORIAN
METHOD:PUBLISH
X-WR-CALNAME:Ayuntamiento - Soto del Real
X-ORIGINAL-URL:https://www.ayto-sotodelreal.es
X-WR-CALDESC:Eventos para Ayuntamiento - Soto del Real
BEGIN:VTIMEZONE
TZID:Europe/Paris
BEGIN:DAYLIGHT
TZOFFSETFROM:+0100
TZOFFSETTO:+0200
TZNAME:CEST
DTSTART:20230326T010000
END:DAYLIGHT
BEGIN:STANDARD
TZOFFSETFROM:+0200
TZOFFSETTO:+0100
TZNAME:CET
DTSTART:20231029T010000
END:STANDARD
END:VTIMEZONE
BEGIN:VEVENT
DTSTART;TZID=Europe/Paris:20230520T100000
DTEND;TZID=Europe/Paris:20230520T100000
DTSTAMP:20260420T120718
CREATED:20230422T112028Z
LAST-MODIFIED:20230424T101907Z
UID:36522-1684576800-1684576800@www.ayto-sotodelreal.es
SUMMARY:TALLER DE JUEGO EN FAMILIA: TELITA
DESCRIPTION:LUGAR: Salones Prado Real. \nDÍA: Sábado 20 de mayo.  \nHORA: 10:00h. \nINSCRIPCIONES: En el Centro Cultural / 918480114 / centrocultural@ayto-sotodelreal.es  \nPÚBLICO: de 9 meses a 2 años; \n 
URL:https://www.ayto-sotodelreal.es/event/taller-de-juego-en-familia-telita/
LOCATION:Salones municipales Prado Real (junto a la piscina municipal)\, C/ La Orden\, nº2\, Soto del Real \, Madrid\, 28791
CATEGORIES:Cultura,Infantil,Medio Ambiente
ATTACH;FMTTYPE=image/jpeg:https://www.ayto-sotodelreal.es/wp-content/uploads/2023/04/CARTEL-¡TELITA.jpg
END:VEVENT
BEGIN:VEVENT
DTSTART;TZID=Europe/Paris:20230520T100000
DTEND;TZID=Europe/Paris:20230520T123000
DTSTAMP:20260420T120718
CREATED:20230511T104057Z
LAST-MODIFIED:20230511T104057Z
UID:36721-1684576800-1684585800@www.ayto-sotodelreal.es
SUMMARY:FORMACION EN RESUCITACIÓN CARDIOPULMONAR Y USO DEL DESA
DESCRIPTION:DÍA: 20 de mayo; \nLUGAR: Centro Cultural; \nHORA: 10:00 a 12:00 h.  \nPÚBLICO: público general; \nINSCRIPCIONES: gratuitas en el Centro Cultural.  \n 
URL:https://www.ayto-sotodelreal.es/event/formacion-en-resucitacion-cardiopulmonar-y-uso-del-desa-4/
LOCATION:Centro Cultural Pedro de Lorenzo\, C/ Real\, nº6\, Soto del Real\, Madrid\, 28791\, España
CATEGORIES:Sanidad
ATTACH;FMTTYPE=image/png:https://www.ayto-sotodelreal.es/wp-content/uploads/2023/05/A3_Formacion-SotoCardioprotegido_20MAYO-1.png
END:VEVENT
BEGIN:VEVENT
DTSTART;TZID=Europe/Paris:20230520T103000
DTEND;TZID=Europe/Paris:20230520T133000
DTSTAMP:20260420T120718
CREATED:20230117T135534Z
LAST-MODIFIED:20230509T090850Z
UID:34835-1684578600-1684589400@www.ayto-sotodelreal.es
SUMMARY:TALLER DE NATURALEZA. SENDA DINÁMICA POR EL ARROYO DEL RECUENCO.
DESCRIPTION:LUGAR: Lugar de encuentro por determinar. \nDÍA: Sábado 20 de mayo.  \nHORA: Horario de 10:30 a 13:30h. \nINSCRIPCIONES: 5€ por taller o 20€/trimestre. En el Centro Cultural / 918480114 / centrocultural@ayto-sotodelreal.es  \nPÚBLICO: De 6 a 12 años; \nPoner en marcha todo lo que hemos ido aprendiendo estos meses nos lleva a salir de nuestro entorno conocido para disfrutar de nuevos paisajes. Desde nuestra seguridad enmontaña\, nuestras nociones de supervivencia\, las aves\, los restos de los mamíferos\, la importancia de las plantas…. \n.
URL:https://www.ayto-sotodelreal.es/event/taller-de-naturaleza-senda-dinamica-por-el-arroyo-del-recuenco/
LOCATION:Madrid
CATEGORIES:Cultura,Infantil,Medio Ambiente
ATTACH;FMTTYPE=image/jpeg:https://www.ayto-sotodelreal.es/wp-content/uploads/2023/01/05.20-Senda-Arroyo-del-Recuenco.jpg
END:VEVENT
BEGIN:VEVENT
DTSTART;TZID=Europe/Paris:20230520T120000
DTEND;TZID=Europe/Paris:20230520T120000
DTSTAMP:20260420T120718
CREATED:20230422T111750Z
LAST-MODIFIED:20230424T102322Z
UID:36519-1684584000-1684584000@www.ayto-sotodelreal.es
SUMMARY:TALLER DE JUEGO EN FAMILIA: UN PUEBLITO DEL PRADO
DESCRIPTION:LUGAR: Parque del Río. \nDÍA: Sábado 20 de mayo.  \nHORA: 12:00h. \nINSCRIPCIONES: En el Centro Cultural / 918480114 / centrocultural@ayto-sotodelreal.es  \nPÚBLICO: De 3 a 100 años; \n 
URL:https://www.ayto-sotodelreal.es/event/taller-de-naturaleza-senda-dinamica-por-el-arroyo-del-recuenco-2/
LOCATION:Parque del Río\, Av. de España \, Soto del Real \, Madrid\, 28791\, España
CATEGORIES:Cultura,Infantil,Medio Ambiente
ATTACH;FMTTYPE=image/jpeg:https://www.ayto-sotodelreal.es/wp-content/uploads/2023/04/CARTEL-UN-PUEBLITO-EN-EL-PRADO.jpg
END:VEVENT
BEGIN:VEVENT
DTSTART;TZID=Europe/Paris:20230520T180000
DTEND;TZID=Europe/Paris:20230520T180000
DTSTAMP:20260420T120718
CREATED:20230412T112914Z
LAST-MODIFIED:20230412T112914Z
UID:36167-1684605600-1684605600@www.ayto-sotodelreal.es
SUMMARY:TORNEO SWITCH
DESCRIPTION:DÍA: 20 de mayo; \nHORA: 18:00 h;   \nLUGAR: Casa de la Juventud; \nPÚBLICO: Todos los públicos.; \nINSCRIPCIONES: gratuitas en la Casa de la Juventud.  \nEl Torneo de Switch consiste en jugar individualmente a dicha consola por rondas (4 jugadores compitiendo entre ellos). Jugarán al Mario Kart\, conocido como el favorito de todos. \nSe plantean las rondas. En cada una se correrán 4 circuitos y quedará un único ganador que pasará a las siguientes. \nHabrá dieciseisavos\, octavos de final\, cuartos de final\, Semifinal y Final. \n 
URL:https://www.ayto-sotodelreal.es/event/torneo-switch/
LOCATION:Casa de la Juventud\, C/ Concejo\, 6\, Soto del Real \, Madrid\, 28791
CATEGORIES:Juventud
ATTACH;FMTTYPE=image/png:https://www.ayto-sotodelreal.es/wp-content/uploads/2023/04/1-1.png
END:VEVENT
BEGIN:VEVENT
DTSTART;TZID=Europe/Paris:20230520T193000
DTEND;TZID=Europe/Paris:20230520T193000
DTSTAMP:20260420T120718
CREATED:20230415T114337Z
LAST-MODIFIED:20230503T061503Z
UID:36231-1684611000-1684611000@www.ayto-sotodelreal.es
SUMMARY:TEATRO: EL CAFÉ DE CARLO GOLDONI
DESCRIPTION:DÍAS: 20 de mayo de 2023; \nHORARIO: 19:30 h. \nLUGAR: C.A.T.   \nPÚBLICO: adultos; \nENTRADAS: 5 € en mutickeros.com  \nSINOPSIS \nLa  dueña  de  un  café  veneciano\, un  caballero chismoso y  difamador\, un próspero comerciante camino  de  la  irremediable ruina por su adicción al  juego\, alguien que dice ser  conde  y  no  lo  es\,  una  bailarina\, una  esposa desesperada en  busca de su marido…Estos son  algunos  de  los  personajes de  esta  inteligente y  divertida  comedia de Carlo Goldoni. \n  \nCompañía LA LUCIERNAGA de Colmenar Viejo. \nDirección: Severiano Granado. \nReparto: Carlos  Colmenarejo\, Mª  José  Hernando\, Carlos  París\,  Elvira Carpintero\, Raquel  Pinilla\,  Manuel  Domínguez\, María  Elvira\,  Mila  López\,  Iosu  De  la  Fuente  y  Kike Hernán.
URL:https://www.ayto-sotodelreal.es/event/teatro-el-cafe-de-carlo-goldoni-2/
LOCATION:CENTRO DE ARTE Y TURISMO (CAT)
CATEGORIES:Centro de Arte y Turismo,Cultura,Teatro,Turismo
ATTACH;FMTTYPE=image/jpeg:https://www.ayto-sotodelreal.es/wp-content/uploads/2023/04/DSC4629-scaled.jpg
END:VEVENT
END:VCALENDAR