BEGIN:VCALENDAR
VERSION:2.0
PRODID:-//Ayuntamiento - Soto del Real - ECPv5.4.0.1//NONSGML v1.0//EN
CALSCALE:GREGORIAN
METHOD:PUBLISH
X-WR-CALNAME:Ayuntamiento - Soto del Real
X-ORIGINAL-URL:https://www.ayto-sotodelreal.es
X-WR-CALDESC:Eventos para Ayuntamiento - Soto del Real
BEGIN:VTIMEZONE
TZID:Europe/Paris
BEGIN:DAYLIGHT
TZOFFSETFROM:+0100
TZOFFSETTO:+0200
TZNAME:CEST
DTSTART:20250330T010000
END:DAYLIGHT
BEGIN:STANDARD
TZOFFSETFROM:+0200
TZOFFSETTO:+0100
TZNAME:CET
DTSTART:20251026T010000
END:STANDARD
END:VTIMEZONE
BEGIN:VEVENT
DTSTART;TZID=Europe/Paris:20251018T160000
DTEND;TZID=Europe/Paris:20251018T180000
DTSTAMP:20260425T193043
CREATED:20250930T065503Z
LAST-MODIFIED:20250930T065721Z
UID:47186-1760803200-1760810400@www.ayto-sotodelreal.es
SUMMARY:YOGA EN EL AGUA VIBRANDO CON CUENCOS DE CUARZO Y HANG
DESCRIPTION:18 de Octubre De 10 A 13H Sábado por la mañana.\n\nYOGA IYENGAR CON PALOMA\n*ASANAS DE ESTABILIDAD *\n*SÉ FIRME EN LA TIERRA Y BRILLANTE EN EL SER*\nLa estructura física cambia a  la mental. La estabilidad es un estado que fluctúa. Aprender de nuestro cuerpo en la práctica de Yoga nos ayuda a caminar con firmeza en nuestra vida.\nSALA ZEN SOTO DEL REAL\nRESERVAS 629205505   Aportación 30€\n \n18 de Octubre De 16 A 18H Sábado por la tarde.\n“YOGA EN EL AGUA VIBRANDO CON CUENCOS DE CUARZO Y HANG” \n“LAS FASES DE LA LUNA EN TU CUERPO” \n\n\n\n\n\n\nLa luna\, en cada una de sus fases\, nos invita a sentir las energías que abrazan la intuición a nuestra conexión espiritual..\nPISCINA CUBIERTA PRADO REAL SOTO DEL REAL \nRESERVAS 629205505   Aportación 20€
URL:https://www.ayto-sotodelreal.es/event/yoga-en-el-agua-vibrando-con-cuencos-de-cuarzo-y-hang/
LOCATION:Complejo deportivo Prado Real\, C/ La Orden\, Soto del Real \, madrid \, 28791
CATEGORIES:Deportes
ATTACH;FMTTYPE=image/jpeg:https://www.ayto-sotodelreal.es/wp-content/uploads/2025/09/Taller-Yoga-con-cuencos-en-el-agua.jpeg
END:VEVENT
END:VCALENDAR