BEGIN:VCALENDAR
VERSION:2.0
PRODID:-//Ayuntamiento - Soto del Real - ECPv5.4.0.1//NONSGML v1.0//EN
CALSCALE:GREGORIAN
METHOD:PUBLISH
X-WR-CALNAME:Ayuntamiento - Soto del Real
X-ORIGINAL-URL:https://www.ayto-sotodelreal.es
X-WR-CALDESC:Eventos para Ayuntamiento - Soto del Real
BEGIN:VTIMEZONE
TZID:Europe/Paris
BEGIN:DAYLIGHT
TZOFFSETFROM:+0100
TZOFFSETTO:+0200
TZNAME:CEST
DTSTART:20250330T010000
END:DAYLIGHT
BEGIN:STANDARD
TZOFFSETFROM:+0200
TZOFFSETTO:+0100
TZNAME:CET
DTSTART:20251026T010000
END:STANDARD
END:VTIMEZONE
BEGIN:VEVENT
DTSTART;TZID=Europe/Paris:20251001T151500
DTEND;TZID=Europe/Paris:20251001T151500
DTSTAMP:20260423T105425
CREATED:20250915T065904Z
LAST-MODIFIED:20250916T104127Z
UID:46765-1759331700-1759331700@www.ayto-sotodelreal.es
SUMMARY:YOGA ACUÁTICO (SED)
DESCRIPTION:ORGANIZADOR: Club de Yoga CONECTA-TE \nFECHA: miércoles 1 octubre; \nHORA: 15:15 h; \nEDAD: a partir de 16 años \nLUGAR: PISCINA CUBIERTA-COMPLEJO DEPORTIVO PRADO REAL \nPRECIO: GRATUITA \n+ INFO e INSCRIPCIONES: Complejo Deportivo Prado Real \n 
URL:https://www.ayto-sotodelreal.es/event/yoga-acuatico-sed/
LOCATION:Complejo deportivo Prado Real\, C/ La Orden\, Soto del Real \, madrid \, 28791
CATEGORIES:Deportes
ATTACH;FMTTYPE=image/jpeg:https://www.ayto-sotodelreal.es/wp-content/uploads/2025/09/20251001_YOGA-ACUATICO-Puertas-Abiertas.jpg
END:VEVENT
END:VCALENDAR