BEGIN:VCALENDAR
VERSION:2.0
PRODID:-//Ayuntamiento - Soto del Real - ECPv5.4.0.1//NONSGML v1.0//EN
CALSCALE:GREGORIAN
METHOD:PUBLISH
X-WR-CALNAME:Ayuntamiento - Soto del Real
X-ORIGINAL-URL:https://www.ayto-sotodelreal.es
X-WR-CALDESC:Eventos para Ayuntamiento - Soto del Real
BEGIN:VTIMEZONE
TZID:Europe/Paris
BEGIN:DAYLIGHT
TZOFFSETFROM:+0100
TZOFFSETTO:+0200
TZNAME:CEST
DTSTART:20190331T010000
END:DAYLIGHT
BEGIN:STANDARD
TZOFFSETFROM:+0200
TZOFFSETTO:+0100
TZNAME:CET
DTSTART:20191027T010000
END:STANDARD
END:VTIMEZONE
BEGIN:VEVENT
DTSTART;TZID=Europe/Paris:20191130T130000
DTEND;TZID=Europe/Paris:20191130T130000
DTSTAMP:20260425T160625
CREATED:20191121T165526Z
LAST-MODIFIED:20191121T165526Z
UID:21826-1575118800-1575118800@www.ayto-sotodelreal.es
SUMMARY:VISITAS GUIADAS A LA EXPOSICIÓN "THIS IS POP"
DESCRIPTION:VISITAS GUIADAS A LA EXPOSICIÓN “THIS IS POP” \nCoincidiendo con la exposición “This is Pop” de la red Itiner\, en la Casa de la Cultura\, se realizaran vistas guiadas los fines de semana del 23 y 24 de noviembre y 30 de noviembre y 1 de diciembrese realizaran a las 13:00 h. .\nSe realizarán previa inscripción en el mail de turismo@ayto-sotodelreal.es o en la oficina de turismo en horario de apertura.\nLa duración de la visita será de 30 minutos aproximadamente. 
URL:https://www.ayto-sotodelreal.es/event/visitas-guiadas-a-la-exposicion-this-is-pop-3/
CATEGORIES:Cultura,Exposiciones,Turismo
ATTACH;FMTTYPE=image/jpeg:https://www.ayto-sotodelreal.es/wp-content/uploads/2019/11/thi_pop.jpg
END:VEVENT
END:VCALENDAR