BEGIN:VCALENDAR
VERSION:2.0
PRODID:-//Ayuntamiento - Soto del Real - ECPv5.4.0.1//NONSGML v1.0//EN
CALSCALE:GREGORIAN
METHOD:PUBLISH
X-WR-CALNAME:Ayuntamiento - Soto del Real
X-ORIGINAL-URL:https://www.ayto-sotodelreal.es
X-WR-CALDESC:Eventos para Ayuntamiento - Soto del Real
BEGIN:VTIMEZONE
TZID:Europe/Paris
BEGIN:DAYLIGHT
TZOFFSETFROM:+0100
TZOFFSETTO:+0200
TZNAME:CEST
DTSTART:20240331T010000
END:DAYLIGHT
BEGIN:STANDARD
TZOFFSETFROM:+0200
TZOFFSETTO:+0100
TZNAME:CET
DTSTART:20241027T010000
END:STANDARD
END:VTIMEZONE
BEGIN:VEVENT
DTSTART;TZID=Europe/Paris:20241222T120000
DTEND;TZID=Europe/Paris:20241222T140000
DTSTAMP:20260423T134553
CREATED:20241030T081554Z
LAST-MODIFIED:20241201T110802Z
UID:42588-1734868800-1734876000@www.ayto-sotodelreal.es
SUMMARY:VISITA PAJES REALES
DESCRIPTION:DÍA: domingo 22 y 29 de diciembre; \nHORA: 12:00 a 14:00 h; \nLUGAR: Plaza de la Villa; \nSoto del Real recibirá la visita de los mensajeros reales\, que se encargarán de llevar las cartas de los niños y niñas al lejano Oriente. No te olvides de traer tu carta de reyes así como de poner tu dirección para que sus majestades puedan contestarte. \n  \n 
URL:https://www.ayto-sotodelreal.es/event/visita-pajes-reales-3/
LOCATION:Plaza de la Villa\, Plaza de la Villa\, Soto del Real \, madrid \, 28791
CATEGORIES:Familia,Fiestas,Infantil,Juventud
ATTACH;FMTTYPE=image/png:https://www.ayto-sotodelreal.es/wp-content/uploads/2024/10/pajes_reales-1.png
END:VEVENT
END:VCALENDAR