BEGIN:VCALENDAR
VERSION:2.0
PRODID:-//Ayuntamiento - Soto del Real - ECPv5.4.0.1//NONSGML v1.0//EN
CALSCALE:GREGORIAN
METHOD:PUBLISH
X-WR-CALNAME:Ayuntamiento - Soto del Real
X-ORIGINAL-URL:https://www.ayto-sotodelreal.es
X-WR-CALDESC:Eventos para Ayuntamiento - Soto del Real
BEGIN:VTIMEZONE
TZID:Europe/Paris
BEGIN:DAYLIGHT
TZOFFSETFROM:+0100
TZOFFSETTO:+0200
TZNAME:CEST
DTSTART:20260329T010000
END:DAYLIGHT
BEGIN:STANDARD
TZOFFSETFROM:+0200
TZOFFSETTO:+0100
TZNAME:CET
DTSTART:20261025T010000
END:STANDARD
END:VTIMEZONE
BEGIN:VEVENT
DTSTART;TZID=Europe/Paris:20260306T193000
DTEND;TZID=Europe/Paris:20260306T193000
DTSTAMP:20260424T114301
CREATED:20260112T075625Z
LAST-MODIFIED:20260225T125808Z
UID:48493-1772825400-1772825400@www.ayto-sotodelreal.es
SUMMARY:VALENTÎ[N]AS
DESCRIPTION:DÍAS: 6 marzo; \nHORA: 19:30 h; \nLUGAR: Centro de Arte y Turismo;  \nPÚBLICO: Recomendado para público a partir de 12 años; \nENTRADA: libre hasta completar aforo.   \nDURACIÓN: 50 minutos aproximadamente. \nVALENTÎ [N]AS es un proyecto que nace de un poema de la escritora y actriz Balbina Jiménez\, incluido en el poemario “Con todos los verbos” (2017). \nLa voz\, el cuerpo y la vida de VALENTÎ [N]AS nos propone un recorrido desde la historia individual de una mujer\, como punto de partida\, a un cuestionamiento colectivo de los conceptos de amor\, deseo\, dependencia o libertad. De cómo el patriarcado desmonta la autoestima de sus habitantes\, de cómo asumimos como verdades subconscientes el bombardeo constante al que nos vemos sobreexpuestos. De Anna Karenina a Virgina Despentes\, Valentî(n)as nos invita a abrir la puerta al zarandeo vital. \nTEASER: https://www.youtube.com/watch?v=YpAZ9odDX0s&t=7s \n  \n  \n 
URL:https://www.ayto-sotodelreal.es/event/valentinas/
LOCATION:CENTRO DE ARTE Y TURISMO (CAT)
CATEGORIES:Centro de Arte y Turismo,Cultura,Teatro
ATTACH;FMTTYPE=image/png:https://www.ayto-sotodelreal.es/wp-content/uploads/2026/01/valentinas.png
END:VEVENT
END:VCALENDAR