BEGIN:VCALENDAR
VERSION:2.0
PRODID:-//Ayuntamiento - Soto del Real - ECPv5.4.0.1//NONSGML v1.0//EN
CALSCALE:GREGORIAN
METHOD:PUBLISH
X-WR-CALNAME:Ayuntamiento - Soto del Real
X-ORIGINAL-URL:https://www.ayto-sotodelreal.es
X-WR-CALDESC:Eventos para Ayuntamiento - Soto del Real
BEGIN:VTIMEZONE
TZID:Europe/Paris
BEGIN:DAYLIGHT
TZOFFSETFROM:+0100
TZOFFSETTO:+0200
TZNAME:CEST
DTSTART:20210328T010000
END:DAYLIGHT
BEGIN:STANDARD
TZOFFSETFROM:+0200
TZOFFSETTO:+0100
TZNAME:CET
DTSTART:20211031T010000
END:STANDARD
END:VTIMEZONE
BEGIN:VEVENT
DTSTART;TZID=Europe/Paris:20210801T093000
DTEND;TZID=Europe/Paris:20210801T170000
DTSTAMP:20260424T200013
CREATED:20210720T065746Z
LAST-MODIFIED:20210720T065746Z
UID:28187-1627810200-1627837200@www.ayto-sotodelreal.es
SUMMARY:TORNEO TIRO CON ARCO
DESCRIPTION:CIRCULAR XXII TROFEO NUESTRA SEÑORA DEL ROSARIO Y 15ª ELIMINATORIA CALCULADORA EN AIRE LIBRE
URL:https://www.ayto-sotodelreal.es/event/torneo-tiro-con-arco/
CATEGORIES:Deportes
ATTACH;FMTTYPE=image/jpeg:https://www.ayto-sotodelreal.es/wp-content/uploads/2021/07/212757991_3050948915184817_3969584853353111582_n.jpg
END:VEVENT
END:VCALENDAR