BEGIN:VCALENDAR
VERSION:2.0
PRODID:-//Ayuntamiento - Soto del Real - ECPv5.4.0.1//NONSGML v1.0//EN
CALSCALE:GREGORIAN
METHOD:PUBLISH
X-WR-CALNAME:Ayuntamiento - Soto del Real
X-ORIGINAL-URL:https://www.ayto-sotodelreal.es
X-WR-CALDESC:Eventos para Ayuntamiento - Soto del Real
BEGIN:VTIMEZONE
TZID:Europe/Paris
BEGIN:DAYLIGHT
TZOFFSETFROM:+0100
TZOFFSETTO:+0200
TZNAME:CEST
DTSTART:20230326T010000
END:DAYLIGHT
BEGIN:STANDARD
TZOFFSETFROM:+0200
TZOFFSETTO:+0100
TZNAME:CET
DTSTART:20231029T010000
END:STANDARD
END:VTIMEZONE
BEGIN:VEVENT
DTSTART;TZID=Europe/Paris:20230730T100000
DTEND;TZID=Europe/Paris:20230730T140000
DTSTAMP:20260420T122214
CREATED:20230711T072713Z
LAST-MODIFIED:20230711T073142Z
UID:37371-1690711200-1690725600@www.ayto-sotodelreal.es
SUMMARY:TORNEO AJEDREZ FIESTAS SOTOCHESS 2023
DESCRIPTION:DÍA DE JUEGO: Domingo 30 de Julio de 2023; \nLUGAR: Plaza de la villa s/n (Soto del Real); \nHORA: de 10:00 a 14:00; \nORGANIZA: Club de Ajedrez Sierra Norte en colaboración con el Ayuntamiento de Soto del Real; \nCATEGORÍAS: General >13 años Infantil < 12 años o menores (nacidos antes de 2010). \nSISTEMA DE JUEGO: Suizo a 7 rondas de 10 minutos más 5 segundos. \nSISTEMA DE DESEMPATE: Bucholz mediano\, Bucholz\, Progresivo y número de Victorias en este orden. \nTROFEOS: Medalla para TODOS los participantes. Trofeos para los 3 primeros clasificados individuales de cada categoría. \nCUOTA: 5 € general y 3 € infantil hasta el 30 de Julio (preinscripción). 7 € general y 5 € infantil en la mesa del árbitro el mismo día hasta 10 minutos antes del inicio del torneo. \nINSCRIPCIONES: Casa de la Cultura o en el correo (charlyw72@gmail.com) entregando esta hoja de inscripción. \nLa participación en este torneo implica la aceptación de las siguientes bases: \n\n\n\nLas decisiones del árbitro serán inapelables.\nSe permiten dos ilegales.\nLos participantes en el torneo autorizan la publicación de sus datos e imagen para la difusión en medios de información que la organización considere oportunos.
URL:https://www.ayto-sotodelreal.es/event/torneo-ajedrez-fiestas-sotochess-2023/
CATEGORIES:Deportes
ATTACH;FMTTYPE=image/jpeg:https://www.ayto-sotodelreal.es/wp-content/uploads/2023/07/Cartel-Sotochess-2023_page-0001.jpg
END:VEVENT
END:VCALENDAR