BEGIN:VCALENDAR
VERSION:2.0
PRODID:-//Ayuntamiento - Soto del Real - ECPv5.4.0.1//NONSGML v1.0//EN
CALSCALE:GREGORIAN
METHOD:PUBLISH
X-WR-CALNAME:Ayuntamiento - Soto del Real
X-ORIGINAL-URL:https://www.ayto-sotodelreal.es
X-WR-CALDESC:Eventos para Ayuntamiento - Soto del Real
BEGIN:VTIMEZONE
TZID:Europe/Paris
BEGIN:DAYLIGHT
TZOFFSETFROM:+0100
TZOFFSETTO:+0200
TZNAME:CEST
DTSTART:20250330T010000
END:DAYLIGHT
BEGIN:STANDARD
TZOFFSETFROM:+0200
TZOFFSETTO:+0100
TZNAME:CET
DTSTART:20251026T010000
END:STANDARD
END:VTIMEZONE
BEGIN:VEVENT
DTSTART;TZID=Europe/Paris:20250516T193000
DTEND;TZID=Europe/Paris:20250516T193000
DTSTAMP:20260425T142222
CREATED:20250312T113725Z
LAST-MODIFIED:20250505T093417Z
UID:44666-1747423800-1747423800@www.ayto-sotodelreal.es
SUMMARY:TEATRO LAS LATINAS SON...
DESCRIPTION:Función  Teatral: “Las latinas son…”\nCompañía: Teatro Sin Papeles\n \nViernes 16 de mayo a las 19:30 en el Centro de Arte Turismo \nENTRADAS: 5€ en mutick.com \nPÚBLICO: mayores de 7 años. \nDURACIÓN 50 min.\n \nDescripción:\n“Las latinas son…” es una obra de teatro social creada por mujeres migrantes de distintos territorios de Abya Yala (Latinoamérica y el Caribe). En ella denunciamos el machismo\, el racismo\, la desigualdad\, las múltiples opresiones y discriminaciones\, las violencias y la vulneración de derechos que vivimos por el hecho de ser mujeres migrantes latinoamericanas. en España. Queremos visibilizar\, sensibilizar y proponer nuevas narrativas alrededor de nuestras propias experiencias migratorias. Ponemos el cuerpo en el escenario para representar las realidades que vivimos nosotras y nuestras hermanas de la región en una obra sobre casos reales\, creada por nosotras y representada por nosotras. Esta obra es también un espacio de reunión\, de escucha\, de co-creación y de resistencia. Aquí nos hemos acuerpado y politizado juntas para hablar más alto\, más fuerte\, con más seguridad y por fin ser escuchadas.\n 
URL:https://www.ayto-sotodelreal.es/event/teatro-las-latinas-son/
LOCATION:CENTRO DE ARTE Y TURISMO (CAT)
CATEGORIES:Centro de Arte y Turismo,Igualdad,Teatro
ATTACH;FMTTYPE=image/png:https://www.ayto-sotodelreal.es/wp-content/uploads/2025/03/CARTEL_Teatro_Las-latinas-son_16.05.25.png
END:VEVENT
END:VCALENDAR