BEGIN:VCALENDAR
VERSION:2.0
PRODID:-//Ayuntamiento - Soto del Real - ECPv5.4.0.1//NONSGML v1.0//EN
CALSCALE:GREGORIAN
METHOD:PUBLISH
X-WR-CALNAME:Ayuntamiento - Soto del Real
X-ORIGINAL-URL:https://www.ayto-sotodelreal.es
X-WR-CALDESC:Eventos para Ayuntamiento - Soto del Real
BEGIN:VTIMEZONE
TZID:Europe/Paris
BEGIN:DAYLIGHT
TZOFFSETFROM:+0100
TZOFFSETTO:+0200
TZNAME:CEST
DTSTART:20250330T010000
END:DAYLIGHT
BEGIN:STANDARD
TZOFFSETFROM:+0200
TZOFFSETTO:+0100
TZNAME:CET
DTSTART:20251026T010000
END:STANDARD
END:VTIMEZONE
BEGIN:VEVENT
DTSTART;TZID=Europe/Paris:20250614T193000
DTEND;TZID=Europe/Paris:20250615T193000
DTSTAMP:20260424T034245
CREATED:20250413T122152Z
LAST-MODIFIED:20250602T061813Z
UID:45175-1749929400-1750015800@www.ayto-sotodelreal.es
SUMMARY:TEATRO AMATEUR -LOS HABITANTES DE LA CASA DESHABITADA
DESCRIPTION:TÍTULO DEL EVENTO: TEATRO AMATEUR -LOS HABITANTES DE LA CASA DESHABITADA\nCía. El Bastidor de Soto del Real\nTIPO DE ACTIVIDAD Teatro aficionado para adultos\nFECHA: Sábado 14 y Domingo 15 de Junio\nHORA: 19:30 h.\nLUGAR: CAT \nSINOPSIS:\nEn una noche de lluvia y frío\, un caballero\, D. Raimundo y su chófer Gregorio\, sufren una avería en el coche en el que viajan por un páramo desolado. El único refugio posible es una casa solariega cercana\, plagada de criaturas extrañas y fantasmagóricas\, que pondrán a prueba el temple de los protagonistas.
URL:https://www.ayto-sotodelreal.es/event/teatro-amateur-los-habitantes-de-la-casa-deshabitada/
LOCATION:CENTRO DE ARTE Y TURISMO (CAT)
CATEGORIES:Centro de Arte y Turismo,Cultura,Teatro
ATTACH;FMTTYPE=image/jpeg:https://www.ayto-sotodelreal.es/wp-content/uploads/2025/04/CATEL-LOS-HABITANTES.jpg
END:VEVENT
END:VCALENDAR