BEGIN:VCALENDAR
VERSION:2.0
PRODID:-//Ayuntamiento - Soto del Real - ECPv5.4.0.1//NONSGML v1.0//EN
CALSCALE:GREGORIAN
METHOD:PUBLISH
X-WR-CALNAME:Ayuntamiento - Soto del Real
X-ORIGINAL-URL:https://www.ayto-sotodelreal.es
X-WR-CALDESC:Eventos para Ayuntamiento - Soto del Real
BEGIN:VTIMEZONE
TZID:Europe/Paris
BEGIN:DAYLIGHT
TZOFFSETFROM:+0100
TZOFFSETTO:+0200
TZNAME:CEST
DTSTART:20260329T010000
END:DAYLIGHT
BEGIN:STANDARD
TZOFFSETFROM:+0200
TZOFFSETTO:+0100
TZNAME:CET
DTSTART:20261025T010000
END:STANDARD
END:VTIMEZONE
BEGIN:VEVENT
DTSTART;TZID=Europe/Paris:20260308T183000
DTEND;TZID=Europe/Paris:20260308T183000
DTSTAMP:20260423T105156
CREATED:20260112T080554Z
LAST-MODIFIED:20260225T125933Z
UID:48498-1772994600-1772994600@www.ayto-sotodelreal.es
SUMMARY:TEATRALIA: NILU
DESCRIPTION:DÍAS: 8 marzo; \nHORA: 18:30 h; \nLUGAR: Centro de Arte y Turismo;  \nPÚBLICO: Público familiar. Edad recomendada: +5 años \nENTRADA: 3€ en taquilla y mutick.com  \nDuración: 50 minutos. \n“Nilu” es una propuesta multidisciplinar para público familiar\, que combina las artes circenses con la magia\, el teatro de objetos y la música en directo. La historia se centra en un ser entrañable que vive en un mundo donde el agua es un bien escaso y preciado. A través de una narrativa visual y emotiva\, el protagonista emprende una odisea llena de desafíos y descubrimientos. Un viaje que «seca la garganta y moja el corazón»\, dejando una huella de conciencia en el público. \n\n  \n  \n  \n  \n 
URL:https://www.ayto-sotodelreal.es/event/teatralia-nilu/
LOCATION:CENTRO DE ARTE Y TURISMO (CAT)
CATEGORIES:Centro de Arte y Turismo,Cultura,Familia,Teatro
ATTACH;FMTTYPE=image/png:https://www.ayto-sotodelreal.es/wp-content/uploads/2026/01/nilu.png
END:VEVENT
END:VCALENDAR