BEGIN:VCALENDAR
VERSION:2.0
PRODID:-//Ayuntamiento - Soto del Real - ECPv5.4.0.1//NONSGML v1.0//EN
CALSCALE:GREGORIAN
METHOD:PUBLISH
X-WR-CALNAME:Ayuntamiento - Soto del Real
X-ORIGINAL-URL:https://www.ayto-sotodelreal.es
X-WR-CALDESC:Eventos para Ayuntamiento - Soto del Real
BEGIN:VTIMEZONE
TZID:Europe/Paris
BEGIN:DAYLIGHT
TZOFFSETFROM:+0100
TZOFFSETTO:+0200
TZNAME:CEST
DTSTART:20190331T010000
END:DAYLIGHT
BEGIN:STANDARD
TZOFFSETFROM:+0200
TZOFFSETTO:+0100
TZNAME:CET
DTSTART:20191027T010000
END:STANDARD
END:VTIMEZONE
BEGIN:VEVENT
DTSTART;TZID=Europe/Paris:20191226T103000
DTEND;TZID=Europe/Paris:20191226T123000
DTSTAMP:20260423T123740
CREATED:20191106T130024Z
LAST-MODIFIED:20191106T130024Z
UID:21618-1577356200-1577363400@www.ayto-sotodelreal.es
SUMMARY:TALLERES EN FAMILIA: PERCUSIÓN CORPORAL Y MOVIMIENTO
DESCRIPTION:TALLERES EN FAMILIA: PERCUSIÓN CORPORAL Y MOVIMIENTO \nJueves 26 de diciembre\nDe 10:30 a 11:15 – Familias con peques <5 años\n11:30 a 12:30 – Familias con niños y niñas >5 años\nSala de Baile Prado Real \nDanza y movimientos\, ejercicios lúdicos individuales y de cooperación para crear una coreografía sencilla.\nPara todas las edades. Niños y niñas acompañados de sus madres/padres.\nImpartido por Bechá. \nINSCRIPCIONES: Casa de la Cultura\nPRECIO: 3€/persona empadronados\nPRECIO: 4\,5€/persona no empadronados\nPRECIO: < 3años gratuito\nCasa de la Cultura – Tel. 918480114
URL:https://www.ayto-sotodelreal.es/event/talleres-en-familia-percusion-corporal-y-movimiento/
CATEGORIES:Cultura,Familia,Infantil,Juventud,Música
ATTACH;FMTTYPE=image/jpeg:https://www.ayto-sotodelreal.es/wp-content/uploads/2019/11/TALLER-PERCUSION-FAMILIA.jpg
END:VEVENT
END:VCALENDAR