BEGIN:VCALENDAR
VERSION:2.0
PRODID:-//Ayuntamiento - Soto del Real - ECPv5.4.0.1//NONSGML v1.0//EN
CALSCALE:GREGORIAN
METHOD:PUBLISH
X-WR-CALNAME:Ayuntamiento - Soto del Real
X-ORIGINAL-URL:https://www.ayto-sotodelreal.es
X-WR-CALDESC:Eventos para Ayuntamiento - Soto del Real
BEGIN:VTIMEZONE
TZID:Europe/Paris
BEGIN:DAYLIGHT
TZOFFSETFROM:+0100
TZOFFSETTO:+0200
TZNAME:CEST
DTSTART:20250330T010000
END:DAYLIGHT
BEGIN:STANDARD
TZOFFSETFROM:+0200
TZOFFSETTO:+0100
TZNAME:CET
DTSTART:20251026T010000
END:STANDARD
END:VTIMEZONE
BEGIN:VEVENT
DTSTART;TZID=Europe/Paris:20250119T123000
DTEND;TZID=Europe/Paris:20250119T123000
DTSTAMP:20260423T171255
CREATED:20250108T085705Z
LAST-MODIFIED:20250115T134228Z
UID:43309-1737289800-1737289800@www.ayto-sotodelreal.es
SUMMARY:TALLER PLANTACIÓN ÁRBOLES FRUTALES
DESCRIPTION:FECHA: DOMINGO 19 DE ENERO\nHORA: 12:30\nLUGAR: CASA DE LA INFANCIA.
URL:https://www.ayto-sotodelreal.es/event/taller-plantacion-arboles-frutales/
LOCATION:Casa de la Juventud\, C/ Concejo\, 6\, Soto del Real \, Madrid\, 28791
CATEGORIES:Infantil,Juventud
ATTACH;FMTTYPE=image/png:https://www.ayto-sotodelreal.es/wp-content/uploads/2025/01/CARTELES-ACTIVIDADES-2024-2025-1.png
END:VEVENT
END:VCALENDAR