BEGIN:VCALENDAR
VERSION:2.0
PRODID:-//Ayuntamiento - Soto del Real - ECPv5.4.0.1//NONSGML v1.0//EN
CALSCALE:GREGORIAN
METHOD:PUBLISH
X-WR-CALNAME:Ayuntamiento - Soto del Real
X-ORIGINAL-URL:https://www.ayto-sotodelreal.es
X-WR-CALDESC:Eventos para Ayuntamiento - Soto del Real
BEGIN:VTIMEZONE
TZID:Europe/Paris
BEGIN:DAYLIGHT
TZOFFSETFROM:+0100
TZOFFSETTO:+0200
TZNAME:CEST
DTSTART:20250330T010000
END:DAYLIGHT
BEGIN:STANDARD
TZOFFSETFROM:+0200
TZOFFSETTO:+0100
TZNAME:CET
DTSTART:20251026T010000
END:STANDARD
END:VTIMEZONE
BEGIN:VEVENT
DTSTART;VALUE=DATE:20251025
DTEND;VALUE=DATE:20251027
DTSTAMP:20260421T184548
CREATED:20250930T074304Z
LAST-MODIFIED:20250930T074304Z
UID:47195-1761350400-1761523199@www.ayto-sotodelreal.es
SUMMARY:TALLER MICOLÓGICO
DESCRIPTION:
URL:https://www.ayto-sotodelreal.es/event/taller-micologico/
LOCATION:Soto del Real\, Soto del Real 
CATEGORIES:Medio Ambiente,Turismo
ATTACH;FMTTYPE=image/jpeg:https://www.ayto-sotodelreal.es/wp-content/uploads/2025/09/COTO-MICO-TALLER-CARTEL-DIN-A3-scaled.jpg
END:VEVENT
END:VCALENDAR